BEGIN:VCALENDAR
VERSION:2.0
PRODID:-//Good Food East Sussex - ECPv6.15.20//NONSGML v1.0//EN
CALSCALE:GREGORIAN
METHOD:PUBLISH
X-WR-CALNAME:Good Food East Sussex
X-ORIGINAL-URL:https://goodfoodeastsussex.org.uk
X-WR-CALDESC:Events for Good Food East Sussex
REFRESH-INTERVAL;VALUE=DURATION:PT1H
X-Robots-Tag:noindex
X-PUBLISHED-TTL:PT1H
BEGIN:VTIMEZONE
TZID:Europe/London
BEGIN:DAYLIGHT
TZOFFSETFROM:+0000
TZOFFSETTO:+0100
TZNAME:BST
DTSTART:20240331T010000
END:DAYLIGHT
BEGIN:STANDARD
TZOFFSETFROM:+0100
TZOFFSETTO:+0000
TZNAME:GMT
DTSTART:20241027T010000
END:STANDARD
BEGIN:DAYLIGHT
TZOFFSETFROM:+0000
TZOFFSETTO:+0100
TZNAME:BST
DTSTART:20250330T010000
END:DAYLIGHT
BEGIN:STANDARD
TZOFFSETFROM:+0100
TZOFFSETTO:+0000
TZNAME:GMT
DTSTART:20251026T010000
END:STANDARD
BEGIN:DAYLIGHT
TZOFFSETFROM:+0000
TZOFFSETTO:+0100
TZNAME:BST
DTSTART:20260329T010000
END:DAYLIGHT
BEGIN:STANDARD
TZOFFSETFROM:+0100
TZOFFSETTO:+0000
TZNAME:GMT
DTSTART:20261025T010000
END:STANDARD
END:VTIMEZONE
BEGIN:VEVENT
DTSTART;TZID=Europe/London:20251117T120000
DTEND;TZID=Europe/London:20251117T120000
DTSTAMP:20260425T021359
CREATED:20251009T095931Z
LAST-MODIFIED:20251009T095931Z
UID:7549-1763380800-1763380800@goodfoodeastsussex.org.uk
SUMMARY:Cooking Good in the Community for 16-25 year olds
DESCRIPTION:
URL:https://goodfoodeastsussex.org.uk/event/cooking-good-in-the-community-for-16-25-year-olds-2-2/
LOCATION:Lewes Town Hall\, High Street Lewes\, Lewes\, East Sussex\, BN7 2QS\, United Kingdom
CATEGORIES:Food Events
ATTACH;FMTTYPE=image/jpeg:https://goodfoodeastsussex.org.uk/wp-content/uploads/2025/09/Cooking-Good-in-the-Community-Course.jpg
ORGANIZER;CN="Cooking Good in the Community":MAILTO:cookinggooditc@gmail.com
END:VEVENT
BEGIN:VEVENT
DTSTART;TZID=Europe/London:20251115T090000
DTEND;TZID=Europe/London:20251115T123000
DTSTAMP:20260425T021359
CREATED:20250926T073341Z
LAST-MODIFIED:20250926T073341Z
UID:7371-1763197200-1763209800@goodfoodeastsussex.org.uk
SUMMARY:Heathfield Farmers Market
DESCRIPTION:
URL:https://goodfoodeastsussex.org.uk/event/heathfield-farmers-market-2/
LOCATION:Heathfield Farmers Market – Co-op Car Park\, 110 High Street\, Heathfield\, East Sussex\, TN21 8JD\, United Kingdom
CATEGORIES:Food Events,Meet Ups
END:VEVENT
BEGIN:VEVENT
DTSTART;TZID=Europe/London:20251115T083000
DTEND;TZID=Europe/London:20251115T130000
DTSTAMP:20260425T021359
CREATED:20250926T073849Z
LAST-MODIFIED:20250926T073849Z
UID:7377-1763195400-1763211600@goodfoodeastsussex.org.uk
SUMMARY:Hailsham Street Market
DESCRIPTION:
URL:https://goodfoodeastsussex.org.uk/event/hailsham-street-market-2-3/
LOCATION:Hailsham Market\, Market Street\, Hailsham\, East Sussex\, BN27 2AG\, United Kingdom
CATEGORIES:Food Events,Meet Ups
ORGANIZER;CN="Hailsham Farm Produce and Craft Market":MAILTO:info@hailshamfarmersmarket.co.uk
END:VEVENT
BEGIN:VEVENT
DTSTART;TZID=Europe/London:20251114T090000
DTEND;TZID=Europe/London:20251114T120000
DTSTAMP:20260425T021359
CREATED:20250926T075737Z
LAST-MODIFIED:20250926T075737Z
UID:7397-1763110800-1763121600@goodfoodeastsussex.org.uk
SUMMARY:Brede Farmers Market
DESCRIPTION:
URL:https://goodfoodeastsussex.org.uk/event/brede-farmers-market-8/
LOCATION:Brede Village Hall\, Oakfield Cottages\, Brede\, Rye\, East Sussex\, TN31 6DX\, United Kingdom
CATEGORIES:Food Events,Meet Ups
ORGANIZER;CN="Brede Village Hall":MAILTO:farmersmarket@bredevillagehall.org.uk
END:VEVENT
BEGIN:VEVENT
DTSTART;TZID=Europe/London:20251112T100000
DTEND;TZID=Europe/London:20251112T120000
DTSTAMP:20260425T021359
CREATED:20250925T143828Z
LAST-MODIFIED:20250925T143843Z
UID:7327-1762941600-1762948800@goodfoodeastsussex.org.uk
SUMMARY:Rye Farmers Market
DESCRIPTION:
URL:https://goodfoodeastsussex.org.uk/event/rye-farmers-market-7/
LOCATION:Rye Farmers Market\, Cinque Ports Pub\, Cinque Port Street\, Rye\, East Sussex\, TN31 7LB\, United Kingdom
CATEGORIES:Food Events,Meet Ups
END:VEVENT
BEGIN:VEVENT
DTSTART;TZID=Europe/London:20251110T120000
DTEND;TZID=Europe/London:20251110T120000
DTSTAMP:20260425T021359
CREATED:20251009T095711Z
LAST-MODIFIED:20251009T095711Z
UID:7519-1762776000-1762776000@goodfoodeastsussex.org.uk
SUMMARY:Cooking Good in the Community for 16-25 year olds
DESCRIPTION:
URL:https://goodfoodeastsussex.org.uk/event/cooking-good-in-the-community-for-16-25-year-olds/
LOCATION:Lewes Town Hall\, High Street Lewes\, Lewes\, East Sussex\, BN7 2QS\, United Kingdom
CATEGORIES:Food Events
ATTACH;FMTTYPE=image/jpeg:https://goodfoodeastsussex.org.uk/wp-content/uploads/2025/09/Cooking-Good-in-the-Community-Course.jpg
ORGANIZER;CN="Cooking Good in the Community":MAILTO:cookinggooditc@gmail.com
END:VEVENT
BEGIN:VEVENT
DTSTART;TZID=Europe/London:20251108T100000
DTEND;TZID=Europe/London:20251108T123000
DTSTAMP:20260425T021359
CREATED:20250926T073202Z
LAST-MODIFIED:20250926T073202Z
UID:7368-1762596000-1762605000@goodfoodeastsussex.org.uk
SUMMARY:Icklesham Produce Market
DESCRIPTION:
URL:https://goodfoodeastsussex.org.uk/event/icklesham-produce-market-2/
LOCATION:Icklesham Memorial Hall\, Workhouse Lane\, Icklesham\, East Sussex\, TN36 4BJ\, United Kingdom
CATEGORIES:Food Events,Meet Ups
ORGANIZER;CN="Icklesham Local Produce Market":MAILTO:Info@ickleshamhall.co.uk
END:VEVENT
BEGIN:VEVENT
DTSTART;TZID=Europe/London:20251108T093000
DTEND;TZID=Europe/London:20251108T123000
DTSTAMP:20260425T021359
CREATED:20251009T094326Z
LAST-MODIFIED:20251009T094326Z
UID:7543-1762594200-1762605000@goodfoodeastsussex.org.uk
SUMMARY:Farmers and Makers Market
DESCRIPTION:
URL:https://goodfoodeastsussex.org.uk/event/farmers-and-makers-market-2/
LOCATION:King John’s Nursery\, Sheepstreet Lane\, Etchingham\, East Sussex\, TN19 7AZ\, United Kingdom
CATEGORIES:Food Events,Meet Ups
ORGANIZER;CN="King John's Nursery":MAILTO:harry@kingjohnsnursery.co.uk
END:VEVENT
BEGIN:VEVENT
DTSTART;TZID=Europe/London:20251108T090000
DTEND;TZID=Europe/London:20251108T123000
DTSTAMP:20260425T021359
CREATED:20250926T074235Z
LAST-MODIFIED:20250926T074235Z
UID:7384-1762592400-1762605000@goodfoodeastsussex.org.uk
SUMMARY:Hailsham Farm Produce and Craft Market
DESCRIPTION:
URL:https://goodfoodeastsussex.org.uk/event/hailsham-farm-produce-and-craft-market-2/
LOCATION:Hailsham Market\, Market Street\, Hailsham\, East Sussex\, BN27 2AG\, United Kingdom
CATEGORIES:Food Events,Meet Ups
ORGANIZER;CN="Hailsham Farm Produce and Craft Market":MAILTO:info@hailshamfarmersmarket.co.uk
END:VEVENT
BEGIN:VEVENT
DTSTART;TZID=Europe/London:20251107T090000
DTEND;TZID=Europe/London:20251107T120000
DTSTAMP:20260425T021359
CREATED:20250926T075658Z
LAST-MODIFIED:20250926T075658Z
UID:7396-1762506000-1762516800@goodfoodeastsussex.org.uk
SUMMARY:Brede Farmers Market
DESCRIPTION:
URL:https://goodfoodeastsussex.org.uk/event/brede-farmers-market-7/
LOCATION:Brede Village Hall\, Oakfield Cottages\, Brede\, Rye\, East Sussex\, TN31 6DX\, United Kingdom
CATEGORIES:Food Events,Meet Ups
ORGANIZER;CN="Brede Village Hall":MAILTO:farmersmarket@bredevillagehall.org.uk
END:VEVENT
BEGIN:VEVENT
DTSTART;TZID=Europe/London:20251105T100000
DTEND;TZID=Europe/London:20251105T120000
DTSTAMP:20260425T021359
CREATED:20250925T143713Z
LAST-MODIFIED:20250925T143734Z
UID:7336-1762336800-1762344000@goodfoodeastsussex.org.uk
SUMMARY:Rye Farmers Market
DESCRIPTION:
URL:https://goodfoodeastsussex.org.uk/event/rye-farmers-market-6/
LOCATION:Rye Farmers Market\, Cinque Ports Pub\, Cinque Port Street\, Rye\, East Sussex\, TN31 7LB\, United Kingdom
CATEGORIES:Food Events,Meet Ups
END:VEVENT
BEGIN:VEVENT
DTSTART;TZID=Europe/London:20251103T120000
DTEND;TZID=Europe/London:20251103T120000
DTSTAMP:20260425T021359
CREATED:20250925T111220Z
LAST-MODIFIED:20251009T095521Z
UID:7263-1762171200-1762171200@goodfoodeastsussex.org.uk
SUMMARY:Cooking Good in the Community for 16-25 year olds
DESCRIPTION:
URL:https://goodfoodeastsussex.org.uk/event/cooking-good-in-the-community-for-16-25-year-olds-2/
LOCATION:Lewes Town Hall\, High Street Lewes\, Lewes\, East Sussex\, BN7 2QS\, United Kingdom
CATEGORIES:Food Events
ATTACH;FMTTYPE=image/jpeg:https://goodfoodeastsussex.org.uk/wp-content/uploads/2025/09/Cooking-Good-in-the-Community-Course.jpg
ORGANIZER;CN="Cooking Good in the Community":MAILTO:cookinggooditc@gmail.com
END:VEVENT
BEGIN:VEVENT
DTSTART;TZID=Europe/London:20251101T100000
DTEND;TZID=Europe/London:20251101T120000
DTSTAMP:20260425T021359
CREATED:20250925T144644Z
LAST-MODIFIED:20250925T144644Z
UID:7351-1761991200-1761998400@goodfoodeastsussex.org.uk
SUMMARY:Robertsbridge Village Market
DESCRIPTION:
URL:https://goodfoodeastsussex.org.uk/event/robertsbridge-village-market-2/
LOCATION:Robertsbridge Village Market\, Robertsbridge Village Hall\, 11-23 Station Road\, Robertsbridge\, East Sussex\, TN32 5DG\, United Kingdom
CATEGORIES:Food Events,Meet Ups
END:VEVENT
BEGIN:VEVENT
DTSTART;TZID=Europe/London:20251101T093000
DTEND;TZID=Europe/London:20251101T133000
DTSTAMP:20260425T021359
CREATED:20250926T083349Z
LAST-MODIFIED:20250926T083349Z
UID:7449-1761989400-1762003800@goodfoodeastsussex.org.uk
SUMMARY:Eastbourne Farmers Market
DESCRIPTION:
URL:https://goodfoodeastsussex.org.uk/event/eastbourne-farmers-market-eastbourne-food-partnership-2/
LOCATION:Eastbourne Farmers Market\, Square outside Towner (Eastbourne) Gallery and the Congress Theatre\, Eastbourne\, East Sussex\, BN21 4JJ\, United Kingdom
CATEGORIES:Food Events
END:VEVENT
BEGIN:VEVENT
DTSTART;TZID=Europe/London:20251101T090000
DTEND;TZID=Europe/London:20251101T113000
DTSTAMP:20260425T021359
CREATED:20250926T074835Z
LAST-MODIFIED:20250926T074835Z
UID:7392-1761987600-1761996600@goodfoodeastsussex.org.uk
SUMMARY:Burwash Farmers Market
DESCRIPTION:
URL:https://goodfoodeastsussex.org.uk/event/burwash-farmers-market-2/
LOCATION:Swan Meadow Playing Field\, Ham Lane\, Burwash\, East Sussex\, TN19 7ER\, United Kingdom
CATEGORIES:Food Events,Meet Ups
ORGANIZER;CN="Burwash Playing Fields Association":MAILTO:bpfaswanmeadow@gmail.com
END:VEVENT
BEGIN:VEVENT
DTSTART;TZID=Europe/London:20251101T083000
DTEND;TZID=Europe/London:20251101T130000
DTSTAMP:20260425T021359
CREATED:20250926T073757Z
LAST-MODIFIED:20250926T073757Z
UID:7376-1761985800-1762002000@goodfoodeastsussex.org.uk
SUMMARY:Hailsham Street Market
DESCRIPTION:
URL:https://goodfoodeastsussex.org.uk/event/hailsham-street-market-2-2/
LOCATION:Hailsham Market\, Market Street\, Hailsham\, East Sussex\, BN27 2AG\, United Kingdom
CATEGORIES:Food Events,Meet Ups
ORGANIZER;CN="Hailsham Farm Produce and Craft Market":MAILTO:info@hailshamfarmersmarket.co.uk
END:VEVENT
BEGIN:VEVENT
DTSTART;TZID=Europe/London:20251031T150000
DTEND;TZID=Europe/London:20251031T170000
DTSTAMP:20260425T021359
CREATED:20250924T145537Z
LAST-MODIFIED:20250924T150006Z
UID:7242-1761922800-1761930000@goodfoodeastsussex.org.uk
SUMMARY:Langney Community Centre - Halloween Party
DESCRIPTION:
URL:https://goodfoodeastsussex.org.uk/event/langney-community-centre-halloween-party/
LOCATION:Langney Community Centre\, Etchingham Road\, Eastbourne\, East Sussex\, BN23 7DX\, United Kingdom
CATEGORIES:Food Events,Meet Ups
ATTACH;FMTTYPE=image/png:https://goodfoodeastsussex.org.uk/wp-content/uploads/2025/09/Langney-Community-Centre-Halloween-Party.png
ORGANIZER;CN="Langney Community Centre":MAILTO:langneycommunitycentrebookings@gmail.com
END:VEVENT
BEGIN:VEVENT
DTSTART;TZID=Europe/London:20251031T090000
DTEND;TZID=Europe/London:20251031T120000
DTSTAMP:20260425T021359
CREATED:20250926T075619Z
LAST-MODIFIED:20250926T075619Z
UID:7395-1761901200-1761912000@goodfoodeastsussex.org.uk
SUMMARY:Brede Farmers Market
DESCRIPTION:
URL:https://goodfoodeastsussex.org.uk/event/brede-farmers-market-6/
LOCATION:Brede Village Hall\, Oakfield Cottages\, Brede\, Rye\, East Sussex\, TN31 6DX\, United Kingdom
CATEGORIES:Food Events,Meet Ups
ORGANIZER;CN="Brede Village Hall":MAILTO:farmersmarket@bredevillagehall.org.uk
END:VEVENT
BEGIN:VEVENT
DTSTART;TZID=Europe/London:20251030T110000
DTEND;TZID=Europe/London:20251030T130000
DTSTAMP:20260425T021359
CREATED:20250924T145751Z
LAST-MODIFIED:20250924T145912Z
UID:7244-1761822000-1761829200@goodfoodeastsussex.org.uk
SUMMARY:Langney Community Centre - Bake and Take Cookery
DESCRIPTION:
URL:https://goodfoodeastsussex.org.uk/event/langney-community-centre-bake-and-take-cookery/
LOCATION:Langney Community Centre\, Etchingham Road\, Eastbourne\, East Sussex\, BN23 7DX\, United Kingdom
CATEGORIES:Food Events,Meet Ups
ATTACH;FMTTYPE=image/png:https://goodfoodeastsussex.org.uk/wp-content/uploads/2025/09/Langney-Community-Centre-Bake-and-Take-Cookery.png
ORGANIZER;CN="Langney Community Centre":MAILTO:langneycommunitycentrebookings@gmail.com
END:VEVENT
BEGIN:VEVENT
DTSTART;TZID=Europe/London:20251030T103000
DTEND;TZID=Europe/London:20251030T123000
DTSTAMP:20260425T021359
CREATED:20250905T091313Z
LAST-MODIFIED:20250909T140546Z
UID:6966-1761820200-1761827400@goodfoodeastsussex.org.uk
SUMMARY:Cook Together Eat Together
DESCRIPTION:Following on from our ‘Healthy ageing made simple’ workshops. \nWe’ll put into practice what we learnt in those sessions. \nNew attendees welcome!
URL:https://goodfoodeastsussex.org.uk/event/cook-together-eat-together-1/
LOCATION:Central Hall Hasting VA\, 6\, Bank Buildings\, Station Rd\, Hastings\, East Sussex\, TN34 1NG\, United Kingdom
CATEGORIES:Food Events,Meet Ups
ATTACH;FMTTYPE=image/png:https://goodfoodeastsussex.org.uk/wp-content/uploads/2025/09/Cooktogether-scaled.png
ORGANIZER;CN="Hastings Voluntary Action":MAILTO:debby@hastingsvoluntaryaction.org.uk
END:VEVENT
BEGIN:VEVENT
DTSTART;TZID=Europe/London:20251029T100000
DTEND;TZID=Europe/London:20251029T120000
DTSTAMP:20260425T021359
CREATED:20250926T131820Z
LAST-MODIFIED:20250926T131820Z
UID:7471-1761732000-1761739200@goodfoodeastsussex.org.uk
SUMMARY:The Rye Bakery – Bakers at work experience day
DESCRIPTION:
URL:https://goodfoodeastsussex.org.uk/event/the-rye-bakery-bakers-at-work-experience-day-5/
LOCATION:The Rye Bakery\, Main Street\, Peasmarsh\, East Sussex\, TN31 6YD\, United Kingdom
CATEGORIES:Food Events,Meet Ups
ORGANIZER;CN="The Rye Bakery":MAILTO:theryebakery@jempsons.com
END:VEVENT
BEGIN:VEVENT
DTSTART;TZID=Europe/London:20251029T100000
DTEND;TZID=Europe/London:20251029T120000
DTSTAMP:20260425T021359
CREATED:20250925T143414Z
LAST-MODIFIED:20250925T143414Z
UID:7335-1761732000-1761739200@goodfoodeastsussex.org.uk
SUMMARY:Rye Farmers Market
DESCRIPTION:
URL:https://goodfoodeastsussex.org.uk/event/rye-farmers-market-5/
LOCATION:Rye Farmers Market\, Cinque Ports Pub\, Cinque Port Street\, Rye\, East Sussex\, TN31 7LB\, United Kingdom
CATEGORIES:Food Events,Meet Ups
END:VEVENT
BEGIN:VEVENT
DTSTART;TZID=Europe/London:20251027T080000
DTEND;TZID=Europe/London:20251027T170000
DTSTAMP:20260425T021359
CREATED:20250926T093904Z
LAST-MODIFIED:20250926T093904Z
UID:7460-1761552000-1761584400@goodfoodeastsussex.org.uk
SUMMARY:Halloween Film and Activity Event
DESCRIPTION:
URL:https://goodfoodeastsussex.org.uk/event/halloween-film-and-activity-event/
LOCATION:Langney Community Centre\, Etchingham Road\, Eastbourne\, East Sussex\, BN23 7DX\, United Kingdom
CATEGORIES:Meet Ups
END:VEVENT
BEGIN:VEVENT
DTSTART;TZID=Europe/London:20251027T000000
DTEND;TZID=Europe/London:20251027T000000
DTSTAMP:20260425T021359
CREATED:20251003T075313Z
LAST-MODIFIED:20251003T075313Z
UID:7518-1761523200-1761523200@goodfoodeastsussex.org.uk
SUMMARY:Cooking Good in the Community for 16-25 year olds
DESCRIPTION:
URL:https://goodfoodeastsussex.org.uk/event/cooking-good-in-the-community-for-16-25-year-olds-5/
LOCATION:Lewes Town Hall\, High Street Lewes\, Lewes\, East Sussex\, BN7 2QS\, United Kingdom
CATEGORIES:Food Events
ATTACH;FMTTYPE=image/jpeg:https://goodfoodeastsussex.org.uk/wp-content/uploads/2025/09/Cooking-Good-in-the-Community-Course.jpg
ORGANIZER;CN="Cooking Good in the Community":MAILTO:cookinggooditc@gmail.com
END:VEVENT
BEGIN:VEVENT
DTSTART;TZID=Europe/London:20251026T110000
DTEND;TZID=Europe/London:20251026T130000
DTSTAMP:20260425T021359
CREATED:20250929T123907Z
LAST-MODIFIED:20250929T123946Z
UID:7486-1761476400-1761483600@goodfoodeastsussex.org.uk
SUMMARY:Bohemia Walled Garden - Pumpkin Festival
DESCRIPTION:
URL:https://goodfoodeastsussex.org.uk/event/bohemia-walled-garden-pumpkin-festival/
LOCATION:Bohemia Walled Garden\, Summerfields Wood\, Off Bohemia Road\, Hastings\, East Sussex\, TN34 1EX\, United Kingdom
CATEGORIES:Food Events,Meet Ups
ATTACH;FMTTYPE=image/jpeg:https://goodfoodeastsussex.org.uk/wp-content/uploads/2025/09/Bohemia-Walled-Garden-Pumpkin-Festival-2025.10.26.jpg
ORGANIZER;CN="Bohemia Walled Garden":MAILTO:info@bohemiawga.org.uk
END:VEVENT
BEGIN:VEVENT
DTSTART;TZID=Europe/London:20251026T100000
DTEND;TZID=Europe/London:20251026T123000
DTSTAMP:20260425T021359
CREATED:20250925T124110Z
LAST-MODIFIED:20250926T082052Z
UID:7275-1761472800-1761481800@goodfoodeastsussex.org.uk
SUMMARY:Beckley Farmers Market
DESCRIPTION:
URL:https://goodfoodeastsussex.org.uk/event/beckley-farmers-market/
LOCATION:Beckley Village Hall\, Main Street\, Beckley\, East S\, TN31 6TL\, United Kingdom
CATEGORIES:Food Events,Meet Ups
ORGANIZER;CN="Beckley Farmers Market":MAILTO:beckleyfarmersmarket@outlook.com
END:VEVENT
BEGIN:VEVENT
DTSTART;TZID=Europe/London:20251025T090000
DTEND;TZID=Europe/London:20251025T150000
DTSTAMP:20260425T021359
CREATED:20251010T111538Z
LAST-MODIFIED:20251010T111538Z
UID:7563-1761382800-1761404400@goodfoodeastsussex.org.uk
SUMMARY:Lovebrook Farm Saturday Farm Shop & Cafe
DESCRIPTION:
URL:https://goodfoodeastsussex.org.uk/event/lovebrook-farm-saturday-farm-shop-cafe-2/
LOCATION:Lovebrook Farm\, The Street\, Kingston\,\, Lewes\, East Sussex\, BN7 3NT\, United Kingdom
CATEGORIES:Food Events,Meet Ups
ORGANIZER;CN="Lovebrook Farm":MAILTO:rich@lovebrook.org
END:VEVENT
BEGIN:VEVENT
DTSTART;TZID=Europe/London:20251025T090000
DTEND;TZID=Europe/London:20251025T130000
DTSTAMP:20260425T021359
CREATED:20250925T130250Z
LAST-MODIFIED:20250925T130250Z
UID:7291-1761382800-1761397200@goodfoodeastsussex.org.uk
SUMMARY:Crowborough Farmers Market
DESCRIPTION:
URL:https://goodfoodeastsussex.org.uk/event/crowborough-farmers-market/
LOCATION:Crowborough Farmers Market\, Croft Road\, Crowborough\, East Sussex\, TN6 1DL\, United Kingdom
CATEGORIES:Food Events,Meet Ups
ORGANIZER;CN="Crowborough Farmers Market":MAILTO:Crowborough@southeastfarmersmarkets.co.uk
END:VEVENT
BEGIN:VEVENT
DTSTART;TZID=Europe/London:20251024T090000
DTEND;TZID=Europe/London:20251024T120000
DTSTAMP:20260425T021359
CREATED:20250926T075537Z
LAST-MODIFIED:20250926T075537Z
UID:7402-1761296400-1761307200@goodfoodeastsussex.org.uk
SUMMARY:Brede Farmers Market
DESCRIPTION:
URL:https://goodfoodeastsussex.org.uk/event/brede-farmers-market-5/
LOCATION:Brede Village Hall\, Oakfield Cottages\, Brede\, Rye\, East Sussex\, TN31 6DX\, United Kingdom
CATEGORIES:Food Events,Meet Ups
ORGANIZER;CN="Brede Village Hall":MAILTO:farmersmarket@bredevillagehall.org.uk
END:VEVENT
BEGIN:VEVENT
DTSTART;TZID=Europe/London:20251022T160000
DTEND;TZID=Europe/London:20251022T173000
DTSTAMP:20260425T021359
CREATED:20250924T104334Z
LAST-MODIFIED:20250924T104334Z
UID:7200-1761148800-1761154200@goodfoodeastsussex.org.uk
SUMMARY:Webinar: Volunteer Rights
DESCRIPTION:
URL:https://goodfoodeastsussex.org.uk/event/webinar-volunteer-rights-3/
LOCATION:Online
CATEGORIES:Meet Ups,Workshop
END:VEVENT
END:VCALENDAR