BEGIN:VCALENDAR
VERSION:2.0
PRODID:-//Good Food East Sussex - ECPv6.15.20//NONSGML v1.0//EN
CALSCALE:GREGORIAN
METHOD:PUBLISH
X-ORIGINAL-URL:https://goodfoodeastsussex.org.uk
X-WR-CALDESC:Events for Good Food East Sussex
REFRESH-INTERVAL;VALUE=DURATION:PT1H
X-Robots-Tag:noindex
X-PUBLISHED-TTL:PT1H
BEGIN:VTIMEZONE
TZID:Europe/London
BEGIN:DAYLIGHT
TZOFFSETFROM:+0000
TZOFFSETTO:+0100
TZNAME:BST
DTSTART:20240331T010000
END:DAYLIGHT
BEGIN:STANDARD
TZOFFSETFROM:+0100
TZOFFSETTO:+0000
TZNAME:GMT
DTSTART:20241027T010000
END:STANDARD
BEGIN:DAYLIGHT
TZOFFSETFROM:+0000
TZOFFSETTO:+0100
TZNAME:BST
DTSTART:20250330T010000
END:DAYLIGHT
BEGIN:STANDARD
TZOFFSETFROM:+0100
TZOFFSETTO:+0000
TZNAME:GMT
DTSTART:20251026T010000
END:STANDARD
BEGIN:DAYLIGHT
TZOFFSETFROM:+0000
TZOFFSETTO:+0100
TZNAME:BST
DTSTART:20260329T010000
END:DAYLIGHT
BEGIN:STANDARD
TZOFFSETFROM:+0100
TZOFFSETTO:+0000
TZNAME:GMT
DTSTART:20261025T010000
END:STANDARD
BEGIN:DAYLIGHT
TZOFFSETFROM:+0000
TZOFFSETTO:+0100
TZNAME:BST
DTSTART:20270328T010000
END:DAYLIGHT
BEGIN:STANDARD
TZOFFSETFROM:+0100
TZOFFSETTO:+0000
TZNAME:GMT
DTSTART:20271031T010000
END:STANDARD
END:VTIMEZONE
BEGIN:VEVENT
DTSTART;TZID=Europe/London:20260312T090000
DTEND;TZID=Europe/London:20260312T150000
DTSTAMP:20260424T210201
CREATED:20260227T101131Z
LAST-MODIFIED:20260417T125718Z
UID:8065-1773306000-1773327600@goodfoodeastsussex.org.uk
SUMMARY:Hastings Town Centre Market
DESCRIPTION:
URL:https://goodfoodeastsussex.org.uk/event/hastings-town-centre-market-3/
LOCATION:Wellington Place\, Wellington Place\, Hastings\, East Sussex\, TN34 1NY\, United Kingdom
CATEGORIES:Street Market
ATTACH;FMTTYPE=image/png:https://goodfoodeastsussex.org.uk/wp-content/uploads/2026/04/Street-Market.png
ORGANIZER;CN="Hastings Town Centre Market":MAILTO:Hastingstownmarket@gmail.com
END:VEVENT
BEGIN:VEVENT
DTSTART;TZID=Europe/London:20260307T090000
DTEND;TZID=Europe/London:20260307T130000
DTSTAMP:20260424T210201
CREATED:20250925T150539Z
LAST-MODIFIED:20260417T124825Z
UID:7357-1772874000-1772888400@goodfoodeastsussex.org.uk
SUMMARY:Lewes Farmers Market
DESCRIPTION:
URL:https://goodfoodeastsussex.org.uk/event/lewes-farmers-market-2-5/
LOCATION:Lewes Farmers Market\, Friars Walk Car Park\, Lewes\, East Sussex\, United Kingdom
CATEGORIES:Farmers Market,Food Events,Meet Ups
ATTACH;FMTTYPE=image/png:https://goodfoodeastsussex.org.uk/wp-content/uploads/2026/04/Lewes-Farmers-Market.png
END:VEVENT
BEGIN:VEVENT
DTSTART;TZID=Europe/London:20260306T090000
DTEND;TZID=Europe/London:20260306T130000
DTSTAMP:20260424T210201
CREATED:20250926T081427Z
LAST-MODIFIED:20260417T130528Z
UID:7419-1772787600-1772802000@goodfoodeastsussex.org.uk
SUMMARY:Bexhill Farmers Market
DESCRIPTION:
URL:https://goodfoodeastsussex.org.uk/event/bexhill-farmers-market-12/
LOCATION:Devonshire Square\, Bexhill on Sea\, East Sussex\, TN40 1AB\, United Kingdom
CATEGORIES:Farmers Market,Food Events
ATTACH;FMTTYPE=image/png:https://goodfoodeastsussex.org.uk/wp-content/uploads/2026/04/Bexhill-Farmers-Market.png
ORGANIZER;CN="Bexhill Farmers Market":MAILTO:info@bexhillmarket.org.uk
END:VEVENT
BEGIN:VEVENT
DTSTART;TZID=Europe/London:20260305T090000
DTEND;TZID=Europe/London:20260305T150000
DTSTAMP:20260424T210201
CREATED:20260227T101040Z
LAST-MODIFIED:20260417T125718Z
UID:8071-1772701200-1772722800@goodfoodeastsussex.org.uk
SUMMARY:Hastings Town Centre Market
DESCRIPTION:
URL:https://goodfoodeastsussex.org.uk/event/hastings-town-centre-market-2/
LOCATION:Wellington Place\, Wellington Place\, Hastings\, East Sussex\, TN34 1NY\, United Kingdom
CATEGORIES:Street Market
ATTACH;FMTTYPE=image/png:https://goodfoodeastsussex.org.uk/wp-content/uploads/2026/04/Street-Market.png
ORGANIZER;CN="Hastings Town Centre Market":MAILTO:Hastingstownmarket@gmail.com
END:VEVENT
BEGIN:VEVENT
DTSTART;TZID=Europe/London:20260305T090000
DTEND;TZID=Europe/London:20260305T150000
DTSTAMP:20260424T210201
CREATED:20260227T100827Z
LAST-MODIFIED:20260417T125718Z
UID:8016-1772701200-1772722800@goodfoodeastsussex.org.uk
SUMMARY:Hastings Town Centre Market
DESCRIPTION:
URL:https://goodfoodeastsussex.org.uk/event/hastings-town-centre-market/
LOCATION:Wellington Place\, Wellington Place\, Hastings\, East Sussex\, TN34 1NY\, United Kingdom
CATEGORIES:Street Market
ATTACH;FMTTYPE=image/png:https://goodfoodeastsussex.org.uk/wp-content/uploads/2026/04/Street-Market.png
ORGANIZER;CN="Hastings Town Centre Market":MAILTO:Hastingstownmarket@gmail.com
END:VEVENT
BEGIN:VEVENT
DTSTART;TZID=Europe/London:20251228T100000
DTEND;TZID=Europe/London:20251228T123000
DTSTAMP:20260424T210201
CREATED:20250926T081920Z
LAST-MODIFIED:20251219T140126Z
UID:7441-1766916000-1766925000@goodfoodeastsussex.org.uk
SUMMARY:Beckley Farmers Market
DESCRIPTION:
URL:https://goodfoodeastsussex.org.uk/event/beckley-farmers-market-3/
LOCATION:Beckley Village Hall\, Main Street\, Beckley\, East S\, TN31 6TL\, United Kingdom
CATEGORIES:Food Events,Meet Ups
ORGANIZER;CN="Beckley Farmers Market":MAILTO:beckleyfarmersmarket@outlook.com
END:VEVENT
BEGIN:VEVENT
DTSTART;TZID=Europe/London:20251227T090000
DTEND;TZID=Europe/London:20251227T130000
DTSTAMP:20260424T210201
CREATED:20250926T074524Z
LAST-MODIFIED:20251219T140141Z
UID:7388-1766826000-1766840400@goodfoodeastsussex.org.uk
SUMMARY:Crowborough Farmers Market
DESCRIPTION:
URL:https://goodfoodeastsussex.org.uk/event/crowborough-farmers-market-2/
LOCATION:Crowborough Farmers Market\, Croft Road\, Crowborough\, East Sussex\, TN6 1DL\, United Kingdom
CATEGORIES:Food Events,Meet Ups
ORGANIZER;CN="Crowborough Farmers Market":MAILTO:Crowborough@southeastfarmersmarkets.co.uk
END:VEVENT
BEGIN:VEVENT
DTSTART;TZID=Europe/London:20251220T090000
DTEND;TZID=Europe/London:20251220T123000
DTSTAMP:20260424T210201
CREATED:20250926T073451Z
LAST-MODIFIED:20251219T140312Z
UID:7372-1766221200-1766233800@goodfoodeastsussex.org.uk
SUMMARY:Heathfield Farmers Market
DESCRIPTION:
URL:https://goodfoodeastsussex.org.uk/event/heathfield-farmers-market-3/
LOCATION:Heathfield Farmers Market – Co-op Car Park\, 110 High Street\, Heathfield\, East Sussex\, TN21 8JD\, United Kingdom
CATEGORIES:Food Events,Meet Ups
END:VEVENT
BEGIN:VEVENT
DTSTART;TZID=Europe/London:20251220T083000
DTEND;TZID=Europe/London:20251220T130000
DTSTAMP:20260424T210201
CREATED:20250926T074045Z
LAST-MODIFIED:20251219T140223Z
UID:7379-1766219400-1766235600@goodfoodeastsussex.org.uk
SUMMARY:Hailsham Street Market
DESCRIPTION:
URL:https://goodfoodeastsussex.org.uk/event/hailsham-street-market-2-5/
LOCATION:Hailsham Market\, Market Street\, Hailsham\, East Sussex\, BN27 2AG\, United Kingdom
CATEGORIES:Food Events,Meet Ups
ORGANIZER;CN="Hailsham Farm Produce and Craft Market":MAILTO:info@hailshamfarmersmarket.co.uk
END:VEVENT
BEGIN:VEVENT
DTSTART;TZID=Europe/London:20251219T090000
DTEND;TZID=Europe/London:20251219T120000
DTSTAMP:20260424T210201
CREATED:20250926T080406Z
LAST-MODIFIED:20250926T080406Z
UID:7415-1766134800-1766145600@goodfoodeastsussex.org.uk
SUMMARY:Brede Farmers Market
DESCRIPTION:
URL:https://goodfoodeastsussex.org.uk/event/brede-farmers-market-9-4/
LOCATION:Brede Village Hall\, Oakfield Cottages\, Brede\, Rye\, East Sussex\, TN31 6DX\, United Kingdom
CATEGORIES:Food Events,Meet Ups
ORGANIZER;CN="Brede Village Hall":MAILTO:farmersmarket@bredevillagehall.org.uk
END:VEVENT
BEGIN:VEVENT
DTSTART;TZID=Europe/London:20251217T100000
DTEND;TZID=Europe/London:20251217T120000
DTSTAMP:20260424T210201
CREATED:20250925T144334Z
LAST-MODIFIED:20250925T144334Z
UID:7325-1765965600-1765972800@goodfoodeastsussex.org.uk
SUMMARY:Rye Farmers Market
DESCRIPTION:
URL:https://goodfoodeastsussex.org.uk/event/rye-farmers-market-12/
LOCATION:Rye Farmers Market\, Cinque Ports Pub\, Cinque Port Street\, Rye\, East Sussex\, TN31 7LB\, United Kingdom
CATEGORIES:Food Events,Meet Ups
END:VEVENT
BEGIN:VEVENT
DTSTART;TZID=Europe/London:20251213T100000
DTEND;TZID=Europe/London:20251213T123000
DTSTAMP:20260424T210201
CREATED:20250926T073551Z
LAST-MODIFIED:20250926T073551Z
UID:7369-1765620000-1765629000@goodfoodeastsussex.org.uk
SUMMARY:Icklesham Produce Market
DESCRIPTION:
URL:https://goodfoodeastsussex.org.uk/event/icklesham-produce-market-3/
LOCATION:Icklesham Memorial Hall\, Workhouse Lane\, Icklesham\, East Sussex\, TN36 4BJ\, United Kingdom
CATEGORIES:Food Events,Meet Ups
ORGANIZER;CN="Icklesham Local Produce Market":MAILTO:Info@ickleshamhall.co.uk
END:VEVENT
BEGIN:VEVENT
DTSTART;TZID=Europe/London:20251213T093000
DTEND;TZID=Europe/London:20251213T123000
DTSTAMP:20260424T210201
CREATED:20251009T094556Z
LAST-MODIFIED:20251009T094556Z
UID:7544-1765618200-1765629000@goodfoodeastsussex.org.uk
SUMMARY:Farmers and Makers Market
DESCRIPTION:
URL:https://goodfoodeastsussex.org.uk/event/farmers-and-makers-market-3/
LOCATION:King John’s Nursery\, Sheepstreet Lane\, Etchingham\, East Sussex\, TN19 7AZ\, United Kingdom
CATEGORIES:Food Events,Meet Ups
ORGANIZER;CN="King John's Nursery":MAILTO:harry@kingjohnsnursery.co.uk
END:VEVENT
BEGIN:VEVENT
DTSTART;TZID=Europe/London:20251213T090000
DTEND;TZID=Europe/London:20251213T123000
DTSTAMP:20260424T210201
CREATED:20250926T074329Z
LAST-MODIFIED:20250926T074329Z
UID:7385-1765616400-1765629000@goodfoodeastsussex.org.uk
SUMMARY:Hailsham Farm Produce and Craft Market
DESCRIPTION:
URL:https://goodfoodeastsussex.org.uk/event/hailsham-farm-produce-and-craft-market-3/
LOCATION:Hailsham Market\, Market Street\, Hailsham\, East Sussex\, BN27 2AG\, United Kingdom
CATEGORIES:Food Events,Meet Ups
ORGANIZER;CN="Hailsham Farm Produce and Craft Market":MAILTO:info@hailshamfarmersmarket.co.uk
END:VEVENT
BEGIN:VEVENT
DTSTART;TZID=Europe/London:20251212T090000
DTEND;TZID=Europe/London:20251212T120000
DTSTAMP:20260424T210201
CREATED:20250926T080321Z
LAST-MODIFIED:20250926T080321Z
UID:7414-1765530000-1765540800@goodfoodeastsussex.org.uk
SUMMARY:Brede Farmers Market
DESCRIPTION:
URL:https://goodfoodeastsussex.org.uk/event/brede-farmers-market-9-3/
LOCATION:Brede Village Hall\, Oakfield Cottages\, Brede\, Rye\, East Sussex\, TN31 6DX\, United Kingdom
CATEGORIES:Food Events,Meet Ups
ORGANIZER;CN="Brede Village Hall":MAILTO:farmersmarket@bredevillagehall.org.uk
END:VEVENT
BEGIN:VEVENT
DTSTART;TZID=Europe/London:20251210T100000
DTEND;TZID=Europe/London:20251210T120000
DTSTAMP:20260424T210201
CREATED:20250925T144244Z
LAST-MODIFIED:20250925T144244Z
UID:7331-1765360800-1765368000@goodfoodeastsussex.org.uk
SUMMARY:Rye Farmers Market
DESCRIPTION:
URL:https://goodfoodeastsussex.org.uk/event/rye-farmers-market-11/
LOCATION:Rye Farmers Market\, Cinque Ports Pub\, Cinque Port Street\, Rye\, East Sussex\, TN31 7LB\, United Kingdom
CATEGORIES:Food Events,Meet Ups
END:VEVENT
BEGIN:VEVENT
DTSTART;TZID=Europe/London:20251206T100000
DTEND;TZID=Europe/London:20251206T120000
DTSTAMP:20260424T210201
CREATED:20250925T144800Z
LAST-MODIFIED:20250925T144800Z
UID:7352-1765015200-1765022400@goodfoodeastsussex.org.uk
SUMMARY:Robertsbridge Village Market
DESCRIPTION:
URL:https://goodfoodeastsussex.org.uk/event/robertsbridge-village-market-3/
LOCATION:Robertsbridge Village Market\, Robertsbridge Village Hall\, 11-23 Station Road\, Robertsbridge\, East Sussex\, TN32 5DG\, United Kingdom
CATEGORIES:Food Events,Meet Ups
END:VEVENT
BEGIN:VEVENT
DTSTART;TZID=Europe/London:20251206T090000
DTEND;TZID=Europe/London:20251206T113000
DTSTAMP:20260424T210201
CREATED:20250926T074946Z
LAST-MODIFIED:20250926T074946Z
UID:7391-1765011600-1765020600@goodfoodeastsussex.org.uk
SUMMARY:Burwash Farmers Market
DESCRIPTION:
URL:https://goodfoodeastsussex.org.uk/event/burwash-farmers-market-3/
LOCATION:Swan Meadow Playing Field\, Ham Lane\, Burwash\, East Sussex\, TN19 7ER\, United Kingdom
CATEGORIES:Food Events,Meet Ups
ORGANIZER;CN="Burwash Playing Fields Association":MAILTO:bpfaswanmeadow@gmail.com
END:VEVENT
BEGIN:VEVENT
DTSTART;TZID=Europe/London:20251206T083000
DTEND;TZID=Europe/London:20251206T130000
DTSTAMP:20260424T210201
CREATED:20250926T073952Z
LAST-MODIFIED:20250926T073952Z
UID:7378-1765009800-1765026000@goodfoodeastsussex.org.uk
SUMMARY:Hailsham Street Market
DESCRIPTION:
URL:https://goodfoodeastsussex.org.uk/event/hailsham-street-market-2-4/
LOCATION:Hailsham Market\, Market Street\, Hailsham\, East Sussex\, BN27 2AG\, United Kingdom
CATEGORIES:Food Events,Meet Ups
ORGANIZER;CN="Hailsham Farm Produce and Craft Market":MAILTO:info@hailshamfarmersmarket.co.uk
END:VEVENT
BEGIN:VEVENT
DTSTART;TZID=Europe/London:20251205T090000
DTEND;TZID=Europe/London:20251205T120000
DTSTAMP:20260424T210201
CREATED:20250926T080240Z
LAST-MODIFIED:20250926T080240Z
UID:7413-1764925200-1764936000@goodfoodeastsussex.org.uk
SUMMARY:Brede Farmers Market
DESCRIPTION:
URL:https://goodfoodeastsussex.org.uk/event/brede-farmers-market-9-2/
LOCATION:Brede Village Hall\, Oakfield Cottages\, Brede\, Rye\, East Sussex\, TN31 6DX\, United Kingdom
CATEGORIES:Food Events,Meet Ups
ORGANIZER;CN="Brede Village Hall":MAILTO:farmersmarket@bredevillagehall.org.uk
END:VEVENT
BEGIN:VEVENT
DTSTART;TZID=Europe/London:20251203T100000
DTEND;TZID=Europe/London:20251203T120000
DTSTAMP:20260424T210201
CREATED:20250925T144112Z
LAST-MODIFIED:20250925T144112Z
UID:7330-1764756000-1764763200@goodfoodeastsussex.org.uk
SUMMARY:Rye Farmers Market
DESCRIPTION:
URL:https://goodfoodeastsussex.org.uk/event/rye-farmers-market-10/
LOCATION:Rye Farmers Market\, Cinque Ports Pub\, Cinque Port Street\, Rye\, East Sussex\, TN31 7LB\, United Kingdom
CATEGORIES:Food Events,Meet Ups
END:VEVENT
BEGIN:VEVENT
DTSTART;TZID=Europe/London:20251128T090000
DTEND;TZID=Europe/London:20251128T120000
DTSTAMP:20260424T210201
CREATED:20250926T075459Z
LAST-MODIFIED:20250926T080156Z
UID:7401-1764320400-1764331200@goodfoodeastsussex.org.uk
SUMMARY:Brede Farmers Market
DESCRIPTION:
URL:https://goodfoodeastsussex.org.uk/event/brede-farmers-market-4/
LOCATION:Brede Village Hall\, Oakfield Cottages\, Brede\, Rye\, East Sussex\, TN31 6DX\, United Kingdom
CATEGORIES:Food Events,Meet Ups
ORGANIZER;CN="Brede Village Hall":MAILTO:farmersmarket@bredevillagehall.org.uk
END:VEVENT
BEGIN:VEVENT
DTSTART;TZID=Europe/London:20251126T100000
DTEND;TZID=Europe/London:20251126T120000
DTSTAMP:20260424T210201
CREATED:20250925T144020Z
LAST-MODIFIED:20250925T144020Z
UID:7329-1764151200-1764158400@goodfoodeastsussex.org.uk
SUMMARY:Rye Farmers Market
DESCRIPTION:
URL:https://goodfoodeastsussex.org.uk/event/rye-farmers-market-9/
LOCATION:Rye Farmers Market\, Cinque Ports Pub\, Cinque Port Street\, Rye\, East Sussex\, TN31 7LB\, United Kingdom
CATEGORIES:Food Events,Meet Ups
END:VEVENT
BEGIN:VEVENT
DTSTART;TZID=Europe/London:20251124T120000
DTEND;TZID=Europe/London:20251124T120000
DTSTAMP:20260424T210201
CREATED:20251009T100053Z
LAST-MODIFIED:20251009T100053Z
UID:7548-1763985600-1763985600@goodfoodeastsussex.org.uk
SUMMARY:Cooking Good in the Community for 16-25 year olds
DESCRIPTION:
URL:https://goodfoodeastsussex.org.uk/event/cooking-good-in-the-community-for-16-25-year-olds-2-3/
LOCATION:Lewes Town Hall\, High Street Lewes\, Lewes\, East Sussex\, BN7 2QS\, United Kingdom
CATEGORIES:Food Events
ATTACH;FMTTYPE=image/jpeg:https://goodfoodeastsussex.org.uk/wp-content/uploads/2025/09/Cooking-Good-in-the-Community-Course.jpg
ORGANIZER;CN="Cooking Good in the Community":MAILTO:cookinggooditc@gmail.com
END:VEVENT
BEGIN:VEVENT
DTSTART;TZID=Europe/London:20251123T100000
DTEND;TZID=Europe/London:20251123T123000
DTSTAMP:20260424T210201
CREATED:20250926T081813Z
LAST-MODIFIED:20250926T082018Z
UID:7442-1763892000-1763901000@goodfoodeastsussex.org.uk
SUMMARY:Beckley Farmers Market
DESCRIPTION:
URL:https://goodfoodeastsussex.org.uk/event/beckley-farmers-market-2/
LOCATION:Beckley Village Hall\, Main Street\, Beckley\, East S\, TN31 6TL\, United Kingdom
CATEGORIES:Food Events,Meet Ups
ORGANIZER;CN="Beckley Farmers Market":MAILTO:beckleyfarmersmarket@outlook.com
END:VEVENT
BEGIN:VEVENT
DTSTART;TZID=Europe/London:20251121T090000
DTEND;TZID=Europe/London:20251121T120000
DTSTAMP:20260424T210201
CREATED:20250926T075822Z
LAST-MODIFIED:20250926T075822Z
UID:7398-1763715600-1763726400@goodfoodeastsussex.org.uk
SUMMARY:Brede Farmers Market
DESCRIPTION:
URL:https://goodfoodeastsussex.org.uk/event/brede-farmers-market-9/
LOCATION:Brede Village Hall\, Oakfield Cottages\, Brede\, Rye\, East Sussex\, TN31 6DX\, United Kingdom
CATEGORIES:Food Events,Meet Ups
ORGANIZER;CN="Brede Village Hall":MAILTO:farmersmarket@bredevillagehall.org.uk
END:VEVENT
BEGIN:VEVENT
DTSTART;TZID=Europe/London:20251119T100000
DTEND;TZID=Europe/London:20251119T120000
DTSTAMP:20260424T210201
CREATED:20250925T143930Z
LAST-MODIFIED:20250925T143930Z
UID:7328-1763546400-1763553600@goodfoodeastsussex.org.uk
SUMMARY:Rye Farmers Market
DESCRIPTION:
URL:https://goodfoodeastsussex.org.uk/event/rye-farmers-market-8/
LOCATION:Rye Farmers Market\, Cinque Ports Pub\, Cinque Port Street\, Rye\, East Sussex\, TN31 7LB\, United Kingdom
CATEGORIES:Food Events,Meet Ups
END:VEVENT
BEGIN:VEVENT
DTSTART;TZID=Europe/London:20251117T120000
DTEND;TZID=Europe/London:20251117T120000
DTSTAMP:20260424T210201
CREATED:20251009T095931Z
LAST-MODIFIED:20251009T095931Z
UID:7549-1763380800-1763380800@goodfoodeastsussex.org.uk
SUMMARY:Cooking Good in the Community for 16-25 year olds
DESCRIPTION:
URL:https://goodfoodeastsussex.org.uk/event/cooking-good-in-the-community-for-16-25-year-olds-2-2/
LOCATION:Lewes Town Hall\, High Street Lewes\, Lewes\, East Sussex\, BN7 2QS\, United Kingdom
CATEGORIES:Food Events
ATTACH;FMTTYPE=image/jpeg:https://goodfoodeastsussex.org.uk/wp-content/uploads/2025/09/Cooking-Good-in-the-Community-Course.jpg
ORGANIZER;CN="Cooking Good in the Community":MAILTO:cookinggooditc@gmail.com
END:VEVENT
BEGIN:VEVENT
DTSTART;TZID=Europe/London:20251115T090000
DTEND;TZID=Europe/London:20251115T123000
DTSTAMP:20260424T210201
CREATED:20250926T073341Z
LAST-MODIFIED:20250926T073341Z
UID:7371-1763197200-1763209800@goodfoodeastsussex.org.uk
SUMMARY:Heathfield Farmers Market
DESCRIPTION:
URL:https://goodfoodeastsussex.org.uk/event/heathfield-farmers-market-2/
LOCATION:Heathfield Farmers Market – Co-op Car Park\, 110 High Street\, Heathfield\, East Sussex\, TN21 8JD\, United Kingdom
CATEGORIES:Food Events,Meet Ups
END:VEVENT
BEGIN:VEVENT
DTSTART;TZID=Europe/London:20251115T083000
DTEND;TZID=Europe/London:20251115T130000
DTSTAMP:20260424T210201
CREATED:20250926T073849Z
LAST-MODIFIED:20250926T073849Z
UID:7377-1763195400-1763211600@goodfoodeastsussex.org.uk
SUMMARY:Hailsham Street Market
DESCRIPTION:
URL:https://goodfoodeastsussex.org.uk/event/hailsham-street-market-2-3/
LOCATION:Hailsham Market\, Market Street\, Hailsham\, East Sussex\, BN27 2AG\, United Kingdom
CATEGORIES:Food Events,Meet Ups
ORGANIZER;CN="Hailsham Farm Produce and Craft Market":MAILTO:info@hailshamfarmersmarket.co.uk
END:VEVENT
END:VCALENDAR