BEGIN:VCALENDAR
VERSION:2.0
PRODID:-//Good Food East Sussex - ECPv6.15.20//NONSGML v1.0//EN
CALSCALE:GREGORIAN
METHOD:PUBLISH
X-WR-CALNAME:Good Food East Sussex
X-ORIGINAL-URL:https://goodfoodeastsussex.org.uk
X-WR-CALDESC:Events for Good Food East Sussex
REFRESH-INTERVAL;VALUE=DURATION:PT1H
X-Robots-Tag:noindex
X-PUBLISHED-TTL:PT1H
BEGIN:VTIMEZONE
TZID:Europe/London
BEGIN:DAYLIGHT
TZOFFSETFROM:+0000
TZOFFSETTO:+0100
TZNAME:BST
DTSTART:20240331T010000
END:DAYLIGHT
BEGIN:STANDARD
TZOFFSETFROM:+0100
TZOFFSETTO:+0000
TZNAME:GMT
DTSTART:20241027T010000
END:STANDARD
BEGIN:DAYLIGHT
TZOFFSETFROM:+0000
TZOFFSETTO:+0100
TZNAME:BST
DTSTART:20250330T010000
END:DAYLIGHT
BEGIN:STANDARD
TZOFFSETFROM:+0100
TZOFFSETTO:+0000
TZNAME:GMT
DTSTART:20251026T010000
END:STANDARD
BEGIN:DAYLIGHT
TZOFFSETFROM:+0000
TZOFFSETTO:+0100
TZNAME:BST
DTSTART:20260329T010000
END:DAYLIGHT
BEGIN:STANDARD
TZOFFSETFROM:+0100
TZOFFSETTO:+0000
TZNAME:GMT
DTSTART:20261025T010000
END:STANDARD
END:VTIMEZONE
BEGIN:VEVENT
DTSTART;TZID=Europe/London:20250930T130000
DTEND;TZID=Europe/London:20250930T143000
DTSTAMP:20260425T183101
CREATED:20250924T080352Z
LAST-MODIFIED:20250925T084417Z
UID:7177-1759237200-1759242600@goodfoodeastsussex.org.uk
SUMMARY:Webinar: Designing collective action to campaign for long-term change
DESCRIPTION:
URL:https://goodfoodeastsussex.org.uk/event/webinar-designing-collective-action-to-campaign-for-long-term-change/
LOCATION:Online
CATEGORIES:Workshop
END:VEVENT
BEGIN:VEVENT
DTSTART;TZID=Europe/London:20250926T093000
DTEND;TZID=Europe/London:20250926T110000
DTSTAMP:20260425T183101
CREATED:20250924T075819Z
LAST-MODIFIED:20250925T084318Z
UID:7018-1758879000-1758884400@goodfoodeastsussex.org.uk
SUMMARY:Apple Picking Day with Fitzjohns Community Food
DESCRIPTION:
URL:https://goodfoodeastsussex.org.uk/event/apple-picking-day-with-fitzjohns-community-food/
LOCATION:Ringmer Community Orchard
CATEGORIES:Meet Ups
ORGANIZER;CN="Fitzjohns Community Food":MAILTO:fitzjohnsfoodbank@gmail.com
END:VEVENT
END:VCALENDAR