BEGIN:VCALENDAR
VERSION:2.0
PRODID:-//Good Food East Sussex - ECPv6.15.20//NONSGML v1.0//EN
CALSCALE:GREGORIAN
METHOD:PUBLISH
X-WR-CALNAME:Good Food East Sussex
X-ORIGINAL-URL:https://goodfoodeastsussex.org.uk
X-WR-CALDESC:Events for Good Food East Sussex
REFRESH-INTERVAL;VALUE=DURATION:PT1H
X-Robots-Tag:noindex
X-PUBLISHED-TTL:PT1H
BEGIN:VTIMEZONE
TZID:Europe/London
BEGIN:DAYLIGHT
TZOFFSETFROM:+0000
TZOFFSETTO:+0100
TZNAME:BST
DTSTART:20240331T010000
END:DAYLIGHT
BEGIN:STANDARD
TZOFFSETFROM:+0100
TZOFFSETTO:+0000
TZNAME:GMT
DTSTART:20241027T010000
END:STANDARD
BEGIN:DAYLIGHT
TZOFFSETFROM:+0000
TZOFFSETTO:+0100
TZNAME:BST
DTSTART:20250330T010000
END:DAYLIGHT
BEGIN:STANDARD
TZOFFSETFROM:+0100
TZOFFSETTO:+0000
TZNAME:GMT
DTSTART:20251026T010000
END:STANDARD
BEGIN:DAYLIGHT
TZOFFSETFROM:+0000
TZOFFSETTO:+0100
TZNAME:BST
DTSTART:20260329T010000
END:DAYLIGHT
BEGIN:STANDARD
TZOFFSETFROM:+0100
TZOFFSETTO:+0000
TZNAME:GMT
DTSTART:20261025T010000
END:STANDARD
END:VTIMEZONE
BEGIN:VEVENT
DTSTART;TZID=Europe/London:20251012T100000
DTEND;TZID=Europe/London:20251012T140000
DTSTAMP:20260425T132654
CREATED:20251003T083757Z
LAST-MODIFIED:20251003T092647Z
UID:7526-1760263200-1760277600@goodfoodeastsussex.org.uk
SUMMARY:Rodmell Food Forest - Autumn Open Day
DESCRIPTION:
URL:https://goodfoodeastsussex.org.uk/event/rodmell-food-forest-autumn-open-day/
LOCATION:Rodmell Food Forest\, Mill Lane\, Rodmell\, East Sussex\, BN7 3HS\, United Kingdom
CATEGORIES:Food Events,Meet Ups
ATTACH;FMTTYPE=image/jpeg:https://goodfoodeastsussex.org.uk/wp-content/uploads/2025/10/Rodmell-Forest-Garden.jpg
END:VEVENT
BEGIN:VEVENT
DTSTART;TZID=Europe/London:20251011T120000
DTEND;TZID=Europe/London:20251011T133000
DTSTAMP:20260425T132654
CREATED:20250924T104604Z
LAST-MODIFIED:20250924T104604Z
UID:7202-1760184000-1760189400@goodfoodeastsussex.org.uk
SUMMARY:Growing Oyster Mushrooms
DESCRIPTION:
URL:https://goodfoodeastsussex.org.uk/event/growing-oyster-mushrooms/
LOCATION:Lewes Climate Hub\, Lewes House\, 32 High Street\, Lewes\, East Sussex\, BN7 2LX\, United Kingdom
CATEGORIES:Food Events
END:VEVENT
BEGIN:VEVENT
DTSTART;TZID=Europe/London:20251011T110000
DTEND;TZID=Europe/London:20251011T143000
DTSTAMP:20260425T132654
CREATED:20251009T133108Z
LAST-MODIFIED:20251009T133320Z
UID:7552-1760180400-1760193000@goodfoodeastsussex.org.uk
SUMMARY:Ringmer Apple Day
DESCRIPTION:
URL:https://goodfoodeastsussex.org.uk/event/ringmer-apple-day/
LOCATION:Ringmer Village Hall\, Lewes Road\, Ringmer\, East Sussex\, BN8 5QH\, United Kingdom
CATEGORIES:Food Events,Harvest Festival,Meet Ups
ATTACH;FMTTYPE=image/png:https://goodfoodeastsussex.org.uk/wp-content/uploads/2025/10/Ringmer-Apple-Day.png
END:VEVENT
BEGIN:VEVENT
DTSTART;TZID=Europe/London:20251011T100000
DTEND;TZID=Europe/London:20251011T123000
DTSTAMP:20260425T132654
CREATED:20250925T132632Z
LAST-MODIFIED:20250925T132632Z
UID:7307-1760176800-1760185800@goodfoodeastsussex.org.uk
SUMMARY:Icklesham Produce Market
DESCRIPTION:
URL:https://goodfoodeastsussex.org.uk/event/icklesham-produce-market/
LOCATION:Icklesham Memorial Hall\, Workhouse Lane\, Icklesham\, East Sussex\, TN36 4BJ\, United Kingdom
CATEGORIES:Food Events,Meet Ups
ORGANIZER;CN="Icklesham Local Produce Market":MAILTO:Info@ickleshamhall.co.uk
END:VEVENT
BEGIN:VEVENT
DTSTART;TZID=Europe/London:20251011T100000
DTEND;TZID=Europe/London:20251011T120000
DTSTAMP:20260425T132654
CREATED:20250924T135149Z
LAST-MODIFIED:20251009T070742Z
UID:7219-1760176800-1760184000@goodfoodeastsussex.org.uk
SUMMARY:Flow Cafe
DESCRIPTION:
URL:https://goodfoodeastsussex.org.uk/event/healthy-eating-and-cooking-activities/
LOCATION:Victoria Baptist Church\, Eldon Road\, Eastbourne\, East Sussex\, BN21 1UE\, United Kingdom
CATEGORIES:Food Events
END:VEVENT
BEGIN:VEVENT
DTSTART;TZID=Europe/London:20251011T093000
DTEND;TZID=Europe/London:20251011T123000
DTSTAMP:20260425T132654
CREATED:20251009T093703Z
LAST-MODIFIED:20251009T093703Z
UID:7538-1760175000-1760185800@goodfoodeastsussex.org.uk
SUMMARY:Farmers and Makers Market
DESCRIPTION:
URL:https://goodfoodeastsussex.org.uk/event/farmers-and-makers-market/
LOCATION:King John’s Nursery\, Sheepstreet Lane\, Etchingham\, East Sussex\, TN19 7AZ\, United Kingdom
CATEGORIES:Food Events,Meet Ups
ORGANIZER;CN="King John's Nursery":MAILTO:harry@kingjohnsnursery.co.uk
END:VEVENT
BEGIN:VEVENT
DTSTART;TZID=Europe/London:20251011T090000
DTEND;TZID=Europe/London:20251011T123000
DTSTAMP:20260425T132654
CREATED:20250925T130827Z
LAST-MODIFIED:20250925T130850Z
UID:7295-1760173200-1760185800@goodfoodeastsussex.org.uk
SUMMARY:Hailsham Farm Produce and Craft Market
DESCRIPTION:
URL:https://goodfoodeastsussex.org.uk/event/hailsham-farm-produce-and-craft-market/
LOCATION:Hailsham Market\, Market Street\, Hailsham\, East Sussex\, BN27 2AG\, United Kingdom
CATEGORIES:Food Events,Meet Ups
ORGANIZER;CN="Hailsham Farm Produce and Craft Market":MAILTO:info@hailshamfarmersmarket.co.uk
END:VEVENT
BEGIN:VEVENT
DTSTART;TZID=Europe/London:20251010T160000
DTEND;TZID=Europe/London:20251010T173000
DTSTAMP:20260425T132654
CREATED:20250924T090432Z
LAST-MODIFIED:20250924T090432Z
UID:7196-1760112000-1760117400@goodfoodeastsussex.org.uk
SUMMARY:Webinar: Volunteer Rights
DESCRIPTION:
URL:https://goodfoodeastsussex.org.uk/event/webinar-volunteer-rights/
LOCATION:Online
CATEGORIES:Meet Ups,Workshop
END:VEVENT
BEGIN:VEVENT
DTSTART;TZID=Europe/London:20251010T100000
DTEND;TZID=Europe/London:20251010T120000
DTSTAMP:20260425T132654
CREATED:20250926T075314Z
LAST-MODIFIED:20250926T075314Z
UID:7399-1760090400-1760097600@goodfoodeastsussex.org.uk
SUMMARY:Brede Farmers Market
DESCRIPTION:
URL:https://goodfoodeastsussex.org.uk/event/brede-farmers-market-2/
LOCATION:Brede Village Hall\, Oakfield Cottages\, Brede\, Rye\, East Sussex\, TN31 6DX\, United Kingdom
CATEGORIES:Food Events,Meet Ups
ORGANIZER;CN="Brede Village Hall":MAILTO:farmersmarket@bredevillagehall.org.uk
END:VEVENT
BEGIN:VEVENT
DTSTART;TZID=Europe/London:20251008T160000
DTEND;TZID=Europe/London:20251008T173000
DTSTAMP:20260425T132654
CREATED:20250924T084506Z
LAST-MODIFIED:20250924T085234Z
UID:7188-1759939200-1759944600@goodfoodeastsussex.org.uk
SUMMARY:Webinar: Designing collective action to campaign for long-term change
DESCRIPTION:
URL:https://goodfoodeastsussex.org.uk/event/webinar-designing-collective-action-to-campaign-for-long-term-change-3/
LOCATION:Online
CATEGORIES:Workshop
END:VEVENT
BEGIN:VEVENT
DTSTART;TZID=Europe/London:20251008T140000
DTEND;TZID=Europe/London:20251008T160000
DTSTAMP:20260425T132654
CREATED:20250924T085911Z
LAST-MODIFIED:20250924T090009Z
UID:7192-1759932000-1759939200@goodfoodeastsussex.org.uk
SUMMARY:A new Sussex Mayor: putting food in the middle of the table
DESCRIPTION:
URL:https://goodfoodeastsussex.org.uk/event/a-new-sussex-mayor-putting-food-in-the-middle-of-the-table/
LOCATION:Online
CATEGORIES:Meet Ups,Workshop
END:VEVENT
BEGIN:VEVENT
DTSTART;TZID=Europe/London:20251008T100000
DTEND;TZID=Europe/London:20251008T120000
DTSTAMP:20260425T132654
CREATED:20250926T131531Z
LAST-MODIFIED:20250926T131531Z
UID:7468-1759917600-1759924800@goodfoodeastsussex.org.uk
SUMMARY:The Rye Bakery – Bakers at work experience day
DESCRIPTION:
URL:https://goodfoodeastsussex.org.uk/event/the-rye-bakery-bakers-at-work-experience-day-2/
LOCATION:The Rye Bakery\, Main Street\, Peasmarsh\, East Sussex\, TN31 6YD\, United Kingdom
CATEGORIES:Food Events,Meet Ups
ORGANIZER;CN="The Rye Bakery":MAILTO:theryebakery@jempsons.com
END:VEVENT
BEGIN:VEVENT
DTSTART;TZID=Europe/London:20251008T100000
DTEND;TZID=Europe/London:20251008T120000
DTSTAMP:20260425T132654
CREATED:20250925T143017Z
LAST-MODIFIED:20250925T143614Z
UID:7332-1759917600-1759924800@goodfoodeastsussex.org.uk
SUMMARY:Rye Farmers Market
DESCRIPTION:
URL:https://goodfoodeastsussex.org.uk/event/rye-farmers-market-2/
LOCATION:Rye Farmers Market\, Cinque Ports Pub\, Cinque Port Street\, Rye\, East Sussex\, TN31 7LB\, United Kingdom
CATEGORIES:Food Events,Meet Ups
END:VEVENT
BEGIN:VEVENT
DTSTART;TZID=Europe/London:20251006T100000
DTEND;TZID=Europe/London:20251006T133000
DTSTAMP:20260425T132654
CREATED:20250930T075324Z
LAST-MODIFIED:20250930T080850Z
UID:7504-1759744800-1759757400@goodfoodeastsussex.org.uk
SUMMARY:Autumn Foraging for beginners
DESCRIPTION:
URL:https://goodfoodeastsussex.org.uk/event/autumn-foraging-for-beginners/
LOCATION:Friends of Bishopstone Station\, The Community Hub\, The Old Parcel Room\, Bishopstone Station\, Station Road\, Bishopstone\, East Sussex\, BN25 2RB\, United Kingdom
CATEGORIES:Food Events,Meet Ups
END:VEVENT
BEGIN:VEVENT
DTSTART;TZID=Europe/London:20251005T110000
DTEND;TZID=Europe/London:20251005T130000
DTSTAMP:20260425T132654
CREATED:20250930T074237Z
LAST-MODIFIED:20250930T074237Z
UID:7500-1759662000-1759669200@goodfoodeastsussex.org.uk
SUMMARY:Pickling Produce
DESCRIPTION:
URL:https://goodfoodeastsussex.org.uk/event/pickling-produce/
LOCATION:Friends of Bishopstone Station\, The Community Hub\, The Old Parcel Room\, Bishopstone Station\, Station Road\, Bishopstone\, East Sussex\, BN25 2RB\, United Kingdom
CATEGORIES:Food Events,Harvest Festival,Meet Ups
ORGANIZER;CN="Organergy":MAILTO:alex@organergy.co.uk
END:VEVENT
BEGIN:VEVENT
DTSTART;TZID=Europe/London:20251004T120000
DTEND;TZID=Europe/London:20251004T140000
DTSTAMP:20260425T132654
CREATED:20250924T082139Z
LAST-MODIFIED:20250924T082538Z
UID:7184-1759579200-1759586400@goodfoodeastsussex.org.uk
SUMMARY:Apple Pressing Day
DESCRIPTION:
URL:https://goodfoodeastsussex.org.uk/event/apple-pressing-day/
LOCATION:Lewes Climate Hub\, Lewes House\, 32 High Street\, Lewes\, East Sussex\, BN7 2LX\, United Kingdom
CATEGORIES:Food Events
END:VEVENT
BEGIN:VEVENT
DTSTART;TZID=Europe/London:20251004T110000
DTEND;TZID=Europe/London:20251025T150000
DTSTAMP:20260425T132654
CREATED:20250925T085325Z
LAST-MODIFIED:20250925T085325Z
UID:7259-1759575600-1761404400@goodfoodeastsussex.org.uk
SUMMARY:Food Season - Nourishing our community
DESCRIPTION:
URL:https://goodfoodeastsussex.org.uk/event/food-season-nourishing-our-community/
LOCATION:Lewes Climate Hub\, Lewes House\, 32 High Street\, Lewes\, East Sussex\, BN7 2LX\, United Kingdom
CATEGORIES:Workshop
END:VEVENT
BEGIN:VEVENT
DTSTART;TZID=Europe/London:20251004T100000
DTEND;TZID=Europe/London:20251004T120000
DTSTAMP:20260425T132654
CREATED:20250925T135913Z
LAST-MODIFIED:20250925T135913Z
UID:7317-1759572000-1759579200@goodfoodeastsussex.org.uk
SUMMARY:Robertsbridge Village Market
DESCRIPTION:
URL:https://goodfoodeastsussex.org.uk/event/robertsbridge-village-market/
LOCATION:Robertsbridge Village Market\, Robertsbridge Village Hall\, 11-23 Station Road\, Robertsbridge\, East Sussex\, TN32 5DG\, United Kingdom
CATEGORIES:Food Events,Meet Ups
END:VEVENT
BEGIN:VEVENT
DTSTART;TZID=Europe/London:20251004T090000
DTEND;TZID=Europe/London:20251004T113000
DTSTAMP:20260425T132654
CREATED:20250925T125835Z
LAST-MODIFIED:20250925T125835Z
UID:7288-1759568400-1759577400@goodfoodeastsussex.org.uk
SUMMARY:Burwash Farmers Market
DESCRIPTION:
URL:https://goodfoodeastsussex.org.uk/event/burwash-farmers-market/
LOCATION:Swan Meadow Playing Field\, Ham Lane\, Burwash\, East Sussex\, TN19 7ER\, United Kingdom
CATEGORIES:Food Events,Meet Ups
ORGANIZER;CN="Burwash Playing Fields Association":MAILTO:bpfaswanmeadow@gmail.com
END:VEVENT
BEGIN:VEVENT
DTSTART;TZID=Europe/London:20251004T090000
DTEND;TZID=Europe/London:20251004T113000
DTSTAMP:20260425T132654
CREATED:20250925T112027Z
LAST-MODIFIED:20250925T112027Z
UID:7268-1759568400-1759577400@goodfoodeastsussex.org.uk
SUMMARY:Burwash Community Market October Special
DESCRIPTION:
URL:https://goodfoodeastsussex.org.uk/event/burwash-community-market-october-special/
LOCATION:Swan Meadow Playing Field\, Ham Lane\, Burwash\, East Sussex\, TN19 7ER\, United Kingdom
CATEGORIES:Food Events,Meet Ups
END:VEVENT
BEGIN:VEVENT
DTSTART;TZID=Europe/London:20251004T083000
DTEND;TZID=Europe/London:20251004T130000
DTSTAMP:20260425T132654
CREATED:20250925T131056Z
LAST-MODIFIED:20250925T131056Z
UID:7299-1759566600-1759582800@goodfoodeastsussex.org.uk
SUMMARY:Hailsham Street Market
DESCRIPTION:
URL:https://goodfoodeastsussex.org.uk/event/hailsham-street-market/
LOCATION:Hailsham Market\, Market Street\, Hailsham\, East Sussex\, BN27 2AG\, United Kingdom
CATEGORIES:Food Events,Meet Ups
ORGANIZER;CN="Hailsham Farm Produce and Craft Market":MAILTO:info@hailshamfarmersmarket.co.uk
END:VEVENT
BEGIN:VEVENT
DTSTART;TZID=Europe/London:20251003T130000
DTEND;TZID=Europe/London:20251003T143000
DTSTAMP:20260425T132654
CREATED:20250924T081044Z
LAST-MODIFIED:20250924T081245Z
UID:7180-1759496400-1759501800@goodfoodeastsussex.org.uk
SUMMARY:Webinar: Designing collective action to campaign for long-term change
DESCRIPTION:
URL:https://goodfoodeastsussex.org.uk/event/webinar-designing-collective-action-to-campaign-for-long-term-change-2/
LOCATION:Online
CATEGORIES:Workshop
END:VEVENT
BEGIN:VEVENT
DTSTART;TZID=Europe/London:20251003T100000
DTEND;TZID=Europe/London:20251003T120000
DTSTAMP:20260425T132654
CREATED:20250925T125315Z
LAST-MODIFIED:20250925T125315Z
UID:7284-1759485600-1759492800@goodfoodeastsussex.org.uk
SUMMARY:Brede Farmers Market
DESCRIPTION:
URL:https://goodfoodeastsussex.org.uk/event/brede-farmers-market/
LOCATION:Brede Village Hall\, Oakfield Cottages\, Brede\, Rye\, East Sussex\, TN31 6DX\, United Kingdom
CATEGORIES:Food Events,Meet Ups
ORGANIZER;CN="Brede Village Hall":MAILTO:farmersmarket@bredevillagehall.org.uk
END:VEVENT
BEGIN:VEVENT
DTSTART;TZID=Europe/London:20251002T110000
DTEND;TZID=Europe/London:20251002T130000
DTSTAMP:20260425T132654
CREATED:20250903T103232Z
LAST-MODIFIED:20250909T140441Z
UID:6889-1759402800-1759410000@goodfoodeastsussex.org.uk
SUMMARY:Cuppa Club
DESCRIPTION:Join us for Free tea\, coffee\, cakes\, information and entertainment in the large area outside M&S. \nBring friends or come and make new ones! \nNo need to book.
URL:https://goodfoodeastsussex.org.uk/event/cuppa-club/
LOCATION:Priory Meadow Shopping Centre\, Queens Road\, Hastings\, East Sussex\, TN34 1PH
CATEGORIES:Food Events,Meet Ups,Workshop
ATTACH;FMTTYPE=image/jpeg:https://goodfoodeastsussex.org.uk/wp-content/uploads/2025/09/CuppaClub-scaled.jpg
END:VEVENT
BEGIN:VEVENT
DTSTART;TZID=Europe/London:20251001T180000
DTEND;TZID=Europe/London:20251001T210000
DTSTAMP:20260425T132654
CREATED:20250908T100337Z
LAST-MODIFIED:20250925T091027Z
UID:6885-1759341600-1759352400@goodfoodeastsussex.org.uk
SUMMARY:Menopause and brain health
DESCRIPTION:Women’s Voices: Don’t Fret the Fog – Menopause and Brain Health \nThis creative learning event aims to give attendees insight into current research investigating the links between healthy brain ageing and the menopause. Researchers hope to hear the voices of seldom heard women in our coastal community\, to help make sure future research meets their needs. \nMenopause-friendly plant-based food will be provided by local nutritionist Rae Edwards\, from Sunshine and Wellness. \nRegistration essential.
URL:https://goodfoodeastsussex.org.uk/event/brain/
LOCATION:Central Hall\, Hastings\, Bank Buildings\, Station Road\, Hastings\, East Sussex\, TN34 1NG\, United Kingdom
CATEGORIES:Food Events,Meet Ups
ATTACH;FMTTYPE=image/png:https://goodfoodeastsussex.org.uk/wp-content/uploads/2025/09/brainfog-scaled.png
END:VEVENT
BEGIN:VEVENT
DTSTART;TZID=Europe/London:20251001T100000
DTEND;TZID=Europe/London:20251001T120000
DTSTAMP:20260425T132654
CREATED:20250926T095532Z
LAST-MODIFIED:20250926T095532Z
UID:7463-1759312800-1759320000@goodfoodeastsussex.org.uk
SUMMARY:The Rye Bakery - Bakers at work experience day
DESCRIPTION:
URL:https://goodfoodeastsussex.org.uk/event/the-rye-bakery-bakers-at-work-experience-day/
LOCATION:The Rye Bakery\, Main Street\, Peasmarsh\, East Sussex\, TN31 6YD\, United Kingdom
CATEGORIES:Food Events,Meet Ups
ORGANIZER;CN="The Rye Bakery":MAILTO:theryebakery@jempsons.com
END:VEVENT
BEGIN:VEVENT
DTSTART;TZID=Europe/London:20251001T100000
DTEND;TZID=Europe/London:20251001T120000
DTSTAMP:20260425T132654
CREATED:20250925T140713Z
LAST-MODIFIED:20250925T140713Z
UID:7321-1759312800-1759320000@goodfoodeastsussex.org.uk
SUMMARY:Rye Farmers Market
DESCRIPTION:
URL:https://goodfoodeastsussex.org.uk/event/rye-farmers-market/
LOCATION:Rye Farmers Market\, Cinque Ports Pub\, Cinque Port Street\, Rye\, East Sussex\, TN31 7LB\, United Kingdom
CATEGORIES:Food Events,Meet Ups
END:VEVENT
BEGIN:VEVENT
DTSTART;TZID=Europe/London:20250930T130000
DTEND;TZID=Europe/London:20250930T143000
DTSTAMP:20260425T132654
CREATED:20250924T080352Z
LAST-MODIFIED:20250925T084417Z
UID:7177-1759237200-1759242600@goodfoodeastsussex.org.uk
SUMMARY:Webinar: Designing collective action to campaign for long-term change
DESCRIPTION:
URL:https://goodfoodeastsussex.org.uk/event/webinar-designing-collective-action-to-campaign-for-long-term-change/
LOCATION:Online
CATEGORIES:Workshop
END:VEVENT
BEGIN:VEVENT
DTSTART;TZID=Europe/London:20250926T093000
DTEND;TZID=Europe/London:20250926T110000
DTSTAMP:20260425T132654
CREATED:20250924T075819Z
LAST-MODIFIED:20250925T084318Z
UID:7018-1758879000-1758884400@goodfoodeastsussex.org.uk
SUMMARY:Apple Picking Day with Fitzjohns Community Food
DESCRIPTION:
URL:https://goodfoodeastsussex.org.uk/event/apple-picking-day-with-fitzjohns-community-food/
LOCATION:Ringmer Community Orchard
CATEGORIES:Meet Ups
ORGANIZER;CN="Fitzjohns Community Food":MAILTO:fitzjohnsfoodbank@gmail.com
END:VEVENT
END:VCALENDAR