BEGIN:VCALENDAR
VERSION:2.0
PRODID:-//Good Food East Sussex - ECPv6.15.20//NONSGML v1.0//EN
CALSCALE:GREGORIAN
METHOD:PUBLISH
X-ORIGINAL-URL:https://goodfoodeastsussex.org.uk
X-WR-CALDESC:Events for Good Food East Sussex
REFRESH-INTERVAL;VALUE=DURATION:PT1H
X-Robots-Tag:noindex
X-PUBLISHED-TTL:PT1H
BEGIN:VTIMEZONE
TZID:Europe/London
BEGIN:DAYLIGHT
TZOFFSETFROM:+0000
TZOFFSETTO:+0100
TZNAME:BST
DTSTART:20240331T010000
END:DAYLIGHT
BEGIN:STANDARD
TZOFFSETFROM:+0100
TZOFFSETTO:+0000
TZNAME:GMT
DTSTART:20241027T010000
END:STANDARD
BEGIN:DAYLIGHT
TZOFFSETFROM:+0000
TZOFFSETTO:+0100
TZNAME:BST
DTSTART:20250330T010000
END:DAYLIGHT
BEGIN:STANDARD
TZOFFSETFROM:+0100
TZOFFSETTO:+0000
TZNAME:GMT
DTSTART:20251026T010000
END:STANDARD
BEGIN:DAYLIGHT
TZOFFSETFROM:+0000
TZOFFSETTO:+0100
TZNAME:BST
DTSTART:20260329T010000
END:DAYLIGHT
BEGIN:STANDARD
TZOFFSETFROM:+0100
TZOFFSETTO:+0000
TZNAME:GMT
DTSTART:20261025T010000
END:STANDARD
END:VTIMEZONE
BEGIN:VEVENT
DTSTART;TZID=Europe/London:20251002T110000
DTEND;TZID=Europe/London:20251002T130000
DTSTAMP:20260425T235649
CREATED:20250903T103232Z
LAST-MODIFIED:20250909T140441Z
UID:6889-1759402800-1759410000@goodfoodeastsussex.org.uk
SUMMARY:Cuppa Club
DESCRIPTION:Join us for Free tea\, coffee\, cakes\, information and entertainment in the large area outside M&S. \nBring friends or come and make new ones! \nNo need to book.
URL:https://goodfoodeastsussex.org.uk/event/cuppa-club/
LOCATION:Priory Meadow Shopping Centre\, Queens Road\, Hastings\, East Sussex\, TN34 1PH
CATEGORIES:Food Events,Meet Ups,Workshop
ATTACH;FMTTYPE=image/jpeg:https://goodfoodeastsussex.org.uk/wp-content/uploads/2025/09/CuppaClub-scaled.jpg
END:VEVENT
BEGIN:VEVENT
DTSTART;TZID=Europe/London:20251003T130000
DTEND;TZID=Europe/London:20251003T143000
DTSTAMP:20260425T235649
CREATED:20250924T081044Z
LAST-MODIFIED:20250924T081245Z
UID:7180-1759496400-1759501800@goodfoodeastsussex.org.uk
SUMMARY:Webinar: Designing collective action to campaign for long-term change
DESCRIPTION:
URL:https://goodfoodeastsussex.org.uk/event/webinar-designing-collective-action-to-campaign-for-long-term-change-2/
LOCATION:Online
CATEGORIES:Workshop
END:VEVENT
BEGIN:VEVENT
DTSTART;TZID=Europe/London:20251004T110000
DTEND;TZID=Europe/London:20251025T150000
DTSTAMP:20260425T235649
CREATED:20250925T085325Z
LAST-MODIFIED:20250925T085325Z
UID:7259-1759575600-1761404400@goodfoodeastsussex.org.uk
SUMMARY:Food Season - Nourishing our community
DESCRIPTION:
URL:https://goodfoodeastsussex.org.uk/event/food-season-nourishing-our-community/
LOCATION:Lewes Climate Hub\, Lewes House\, 32 High Street\, Lewes\, East Sussex\, BN7 2LX\, United Kingdom
CATEGORIES:Workshop
END:VEVENT
BEGIN:VEVENT
DTSTART;TZID=Europe/London:20251008T140000
DTEND;TZID=Europe/London:20251008T160000
DTSTAMP:20260425T235649
CREATED:20250924T085911Z
LAST-MODIFIED:20250924T090009Z
UID:7192-1759932000-1759939200@goodfoodeastsussex.org.uk
SUMMARY:A new Sussex Mayor: putting food in the middle of the table
DESCRIPTION:
URL:https://goodfoodeastsussex.org.uk/event/a-new-sussex-mayor-putting-food-in-the-middle-of-the-table/
LOCATION:Online
CATEGORIES:Meet Ups,Workshop
END:VEVENT
BEGIN:VEVENT
DTSTART;TZID=Europe/London:20251008T160000
DTEND;TZID=Europe/London:20251008T173000
DTSTAMP:20260425T235649
CREATED:20250924T084506Z
LAST-MODIFIED:20250924T085234Z
UID:7188-1759939200-1759944600@goodfoodeastsussex.org.uk
SUMMARY:Webinar: Designing collective action to campaign for long-term change
DESCRIPTION:
URL:https://goodfoodeastsussex.org.uk/event/webinar-designing-collective-action-to-campaign-for-long-term-change-3/
LOCATION:Online
CATEGORIES:Workshop
END:VEVENT
BEGIN:VEVENT
DTSTART;TZID=Europe/London:20251010T160000
DTEND;TZID=Europe/London:20251010T173000
DTSTAMP:20260425T235649
CREATED:20250924T090432Z
LAST-MODIFIED:20250924T090432Z
UID:7196-1760112000-1760117400@goodfoodeastsussex.org.uk
SUMMARY:Webinar: Volunteer Rights
DESCRIPTION:
URL:https://goodfoodeastsussex.org.uk/event/webinar-volunteer-rights/
LOCATION:Online
CATEGORIES:Meet Ups,Workshop
END:VEVENT
BEGIN:VEVENT
DTSTART;TZID=Europe/London:20251016T103000
DTEND;TZID=Europe/London:20251016T123000
DTSTAMP:20260425T235649
CREATED:20250905T082439Z
LAST-MODIFIED:20250909T140920Z
UID:6958-1760610600-1760617800@goodfoodeastsussex.org.uk
SUMMARY:Cook Together Eat Together Workshop
DESCRIPTION:Following on from our ‘Eat Well Age Well’ workshops. \nWe’ll put into practice what we learnt in those sessions. \nNew attendees welcome!
URL:https://goodfoodeastsussex.org.uk/event/cook-together-eat-together-2/
LOCATION:Central Hall\, Hastings\, Bank Buildings\, Station Road\, Hastings\, East Sussex\, TN34 1NG\, United Kingdom
CATEGORIES:Food Events,Workshop
ATTACH;FMTTYPE=image/png:https://goodfoodeastsussex.org.uk/wp-content/uploads/2025/09/Cooktogether-scaled.png
END:VEVENT
BEGIN:VEVENT
DTSTART;TZID=Europe/London:20251016T160000
DTEND;TZID=Europe/London:20251016T170000
DTSTAMP:20260425T235649
CREATED:20250924T104130Z
LAST-MODIFIED:20250924T104130Z
UID:7198-1760630400-1760634000@goodfoodeastsussex.org.uk
SUMMARY:Webinar: Volunteer Rights
DESCRIPTION:
URL:https://goodfoodeastsussex.org.uk/event/webinar-volunteer-rights-2/
LOCATION:Online
CATEGORIES:Meet Ups,Workshop
END:VEVENT
BEGIN:VEVENT
DTSTART;TZID=Europe/London:20251018T130000
DTEND;TZID=Europe/London:20251018T143000
DTSTAMP:20260425T235649
CREATED:20250924T110857Z
LAST-MODIFIED:20250924T110857Z
UID:7213-1760792400-1760797800@goodfoodeastsussex.org.uk
SUMMARY:Panel Discussion: Building Local Food Resilience
DESCRIPTION:
URL:https://goodfoodeastsussex.org.uk/event/panel-discussion-building-local-food-resilience/
LOCATION:Lewes Climate Hub\, Lewes House\, 32 High Street\, Lewes\, East Sussex\, BN7 2LX\, United Kingdom
CATEGORIES:Workshop
END:VEVENT
BEGIN:VEVENT
DTSTART;TZID=Europe/London:20251018T140000
DTEND;TZID=Europe/London:20251018T160000
DTSTAMP:20260425T235649
CREATED:20250925T081203Z
LAST-MODIFIED:20250925T081203Z
UID:7250-1760796000-1760803200@goodfoodeastsussex.org.uk
SUMMARY:Squish and Squash
DESCRIPTION:
URL:https://goodfoodeastsussex.org.uk/event/squish-and-squash/
LOCATION:Landport Community Garden\, 19 Hayward Road\, Lewes\, East Sussex\, BN7 2EA\, United Kingdom
CATEGORIES:Food Events,Meet Ups,Workshop
ORGANIZER;CN="Landport Community Garden":MAILTO:landportcg@gmail.com
END:VEVENT
BEGIN:VEVENT
DTSTART;TZID=Europe/London:20251019T110000
DTEND;TZID=Europe/London:20251019T140000
DTSTAMP:20260425T235649
CREATED:20250930T075854Z
LAST-MODIFIED:20250930T075854Z
UID:7507-1760871600-1760882400@goodfoodeastsussex.org.uk
SUMMARY:Bake Your Lawn Celebration
DESCRIPTION:
URL:https://goodfoodeastsussex.org.uk/event/bake-your-lawn-celebration/
LOCATION:Mercread Youth Centre\, Mercread Rd\, Seaford\, East Sussex\, BN25 1AB\, United Kingdom
CATEGORIES:Food Events,Meet Ups,Workshop
ATTACH;FMTTYPE=image/png:https://goodfoodeastsussex.org.uk/wp-content/uploads/2025/09/Bake-Your-Lawn-Celebration.png
ORGANIZER;CN="Sharing Skills":MAILTO:hello@sharingskills.co.uk
END:VEVENT
BEGIN:VEVENT
DTSTART;TZID=Europe/London:20251022T160000
DTEND;TZID=Europe/London:20251022T173000
DTSTAMP:20260425T235649
CREATED:20250924T104334Z
LAST-MODIFIED:20250924T104334Z
UID:7200-1761148800-1761154200@goodfoodeastsussex.org.uk
SUMMARY:Webinar: Volunteer Rights
DESCRIPTION:
URL:https://goodfoodeastsussex.org.uk/event/webinar-volunteer-rights-3/
LOCATION:Online
CATEGORIES:Meet Ups,Workshop
END:VEVENT
END:VCALENDAR