BEGIN:VCALENDAR
VERSION:2.0
PRODID:-//Good Food East Sussex - ECPv6.15.20//NONSGML v1.0//EN
CALSCALE:GREGORIAN
METHOD:PUBLISH
X-WR-CALNAME:Good Food East Sussex
X-ORIGINAL-URL:https://goodfoodeastsussex.org.uk
X-WR-CALDESC:Events for Good Food East Sussex
REFRESH-INTERVAL;VALUE=DURATION:PT1H
X-Robots-Tag:noindex
X-PUBLISHED-TTL:PT1H
BEGIN:VTIMEZONE
TZID:Europe/London
BEGIN:DAYLIGHT
TZOFFSETFROM:+0000
TZOFFSETTO:+0100
TZNAME:BST
DTSTART:20250330T010000
END:DAYLIGHT
BEGIN:STANDARD
TZOFFSETFROM:+0100
TZOFFSETTO:+0000
TZNAME:GMT
DTSTART:20251026T010000
END:STANDARD
BEGIN:DAYLIGHT
TZOFFSETFROM:+0000
TZOFFSETTO:+0100
TZNAME:BST
DTSTART:20260329T010000
END:DAYLIGHT
BEGIN:STANDARD
TZOFFSETFROM:+0100
TZOFFSETTO:+0000
TZNAME:GMT
DTSTART:20261025T010000
END:STANDARD
BEGIN:DAYLIGHT
TZOFFSETFROM:+0000
TZOFFSETTO:+0100
TZNAME:BST
DTSTART:20270328T010000
END:DAYLIGHT
BEGIN:STANDARD
TZOFFSETFROM:+0100
TZOFFSETTO:+0000
TZNAME:GMT
DTSTART:20271031T010000
END:STANDARD
END:VTIMEZONE
BEGIN:VEVENT
DTSTART;TZID=Europe/London:20260305T090000
DTEND;TZID=Europe/London:20260305T150000
DTSTAMP:20260424T224701
CREATED:20260227T100827Z
LAST-MODIFIED:20260417T125718Z
UID:8016-1772701200-1772722800@goodfoodeastsussex.org.uk
SUMMARY:Hastings Town Centre Market
DESCRIPTION:
URL:https://goodfoodeastsussex.org.uk/event/hastings-town-centre-market/
LOCATION:Wellington Place\, Wellington Place\, Hastings\, East Sussex\, TN34 1NY\, United Kingdom
CATEGORIES:Street Market
ATTACH;FMTTYPE=image/png:https://goodfoodeastsussex.org.uk/wp-content/uploads/2026/04/Street-Market.png
ORGANIZER;CN="Hastings Town Centre Market":MAILTO:Hastingstownmarket@gmail.com
END:VEVENT
BEGIN:VEVENT
DTSTART;TZID=Europe/London:20260305T090000
DTEND;TZID=Europe/London:20260305T150000
DTSTAMP:20260424T224701
CREATED:20260227T101040Z
LAST-MODIFIED:20260417T125718Z
UID:8071-1772701200-1772722800@goodfoodeastsussex.org.uk
SUMMARY:Hastings Town Centre Market
DESCRIPTION:
URL:https://goodfoodeastsussex.org.uk/event/hastings-town-centre-market-2/
LOCATION:Wellington Place\, Wellington Place\, Hastings\, East Sussex\, TN34 1NY\, United Kingdom
CATEGORIES:Street Market
ATTACH;FMTTYPE=image/png:https://goodfoodeastsussex.org.uk/wp-content/uploads/2026/04/Street-Market.png
ORGANIZER;CN="Hastings Town Centre Market":MAILTO:Hastingstownmarket@gmail.com
END:VEVENT
BEGIN:VEVENT
DTSTART;TZID=Europe/London:20260312T090000
DTEND;TZID=Europe/London:20260312T150000
DTSTAMP:20260424T224701
CREATED:20260227T101131Z
LAST-MODIFIED:20260417T125718Z
UID:8065-1773306000-1773327600@goodfoodeastsussex.org.uk
SUMMARY:Hastings Town Centre Market
DESCRIPTION:
URL:https://goodfoodeastsussex.org.uk/event/hastings-town-centre-market-3/
LOCATION:Wellington Place\, Wellington Place\, Hastings\, East Sussex\, TN34 1NY\, United Kingdom
CATEGORIES:Street Market
ATTACH;FMTTYPE=image/png:https://goodfoodeastsussex.org.uk/wp-content/uploads/2026/04/Street-Market.png
ORGANIZER;CN="Hastings Town Centre Market":MAILTO:Hastingstownmarket@gmail.com
END:VEVENT
BEGIN:VEVENT
DTSTART;TZID=Europe/London:20260319T090000
DTEND;TZID=Europe/London:20260319T150000
DTSTAMP:20260424T224701
CREATED:20260227T101219Z
LAST-MODIFIED:20260417T125718Z
UID:8066-1773910800-1773932400@goodfoodeastsussex.org.uk
SUMMARY:Hastings Town Centre Market
DESCRIPTION:
URL:https://goodfoodeastsussex.org.uk/event/hastings-town-centre-market-4/
LOCATION:Wellington Place\, Wellington Place\, Hastings\, East Sussex\, TN34 1NY\, United Kingdom
CATEGORIES:Street Market
ATTACH;FMTTYPE=image/png:https://goodfoodeastsussex.org.uk/wp-content/uploads/2026/04/Street-Market.png
ORGANIZER;CN="Hastings Town Centre Market":MAILTO:Hastingstownmarket@gmail.com
END:VEVENT
BEGIN:VEVENT
DTSTART;TZID=Europe/London:20260326T090000
DTEND;TZID=Europe/London:20260326T150000
DTSTAMP:20260424T224701
CREATED:20260227T101308Z
LAST-MODIFIED:20260417T125718Z
UID:8067-1774515600-1774537200@goodfoodeastsussex.org.uk
SUMMARY:Hastings Town Centre Market
DESCRIPTION:
URL:https://goodfoodeastsussex.org.uk/event/hastings-town-centre-market-5/
LOCATION:Wellington Place\, Wellington Place\, Hastings\, East Sussex\, TN34 1NY\, United Kingdom
CATEGORIES:Street Market
ATTACH;FMTTYPE=image/png:https://goodfoodeastsussex.org.uk/wp-content/uploads/2026/04/Street-Market.png
ORGANIZER;CN="Hastings Town Centre Market":MAILTO:Hastingstownmarket@gmail.com
END:VEVENT
END:VCALENDAR