BEGIN:VCALENDAR
VERSION:2.0
PRODID:-//Good Food East Sussex - ECPv6.15.20//NONSGML v1.0//EN
CALSCALE:GREGORIAN
METHOD:PUBLISH
X-ORIGINAL-URL:https://goodfoodeastsussex.org.uk
X-WR-CALDESC:Events for Good Food East Sussex
REFRESH-INTERVAL;VALUE=DURATION:PT1H
X-Robots-Tag:noindex
X-PUBLISHED-TTL:PT1H
BEGIN:VTIMEZONE
TZID:Europe/London
BEGIN:DAYLIGHT
TZOFFSETFROM:+0000
TZOFFSETTO:+0100
TZNAME:BST
DTSTART:20250330T010000
END:DAYLIGHT
BEGIN:STANDARD
TZOFFSETFROM:+0100
TZOFFSETTO:+0000
TZNAME:GMT
DTSTART:20251026T010000
END:STANDARD
BEGIN:DAYLIGHT
TZOFFSETFROM:+0000
TZOFFSETTO:+0100
TZNAME:BST
DTSTART:20260329T010000
END:DAYLIGHT
BEGIN:STANDARD
TZOFFSETFROM:+0100
TZOFFSETTO:+0000
TZNAME:GMT
DTSTART:20261025T010000
END:STANDARD
BEGIN:DAYLIGHT
TZOFFSETFROM:+0000
TZOFFSETTO:+0100
TZNAME:BST
DTSTART:20270328T010000
END:DAYLIGHT
BEGIN:STANDARD
TZOFFSETFROM:+0100
TZOFFSETTO:+0000
TZNAME:GMT
DTSTART:20271031T010000
END:STANDARD
END:VTIMEZONE
BEGIN:VEVENT
DTSTART;TZID=Europe/London:20260724T090000
DTEND;TZID=Europe/London:20260724T130000
DTSTAMP:20260425T000445
CREATED:20260227T092234Z
LAST-MODIFIED:20260417T125301Z
UID:7959-1784883600-1784898000@goodfoodeastsussex.org.uk
SUMMARY:Bexhill Farmers Market
DESCRIPTION:
URL:https://goodfoodeastsussex.org.uk/event/bexhill-farmers-market-21/
LOCATION:Devonshire Square\, Bexhill on Sea\, East Sussex\, TN40 1AB\, United Kingdom
CATEGORIES:Farmers Market,Food Events
ATTACH;FMTTYPE=image/png:https://goodfoodeastsussex.org.uk/wp-content/uploads/2026/04/Bexhill-Farmers-Market.png
ORGANIZER;CN="Bexhill Farmers Market":MAILTO:info@bexhillmarket.org.uk
END:VEVENT
BEGIN:VEVENT
DTSTART;TZID=Europe/London:20260731T090000
DTEND;TZID=Europe/London:20260731T130000
DTSTAMP:20260425T000445
CREATED:20260227T092321Z
LAST-MODIFIED:20260417T125301Z
UID:7960-1785488400-1785502800@goodfoodeastsussex.org.uk
SUMMARY:Bexhill Farmers Market
DESCRIPTION:
URL:https://goodfoodeastsussex.org.uk/event/bexhill-farmers-market-22/
LOCATION:Devonshire Square\, Bexhill on Sea\, East Sussex\, TN40 1AB\, United Kingdom
CATEGORIES:Farmers Market,Food Events
ATTACH;FMTTYPE=image/png:https://goodfoodeastsussex.org.uk/wp-content/uploads/2026/04/Bexhill-Farmers-Market.png
ORGANIZER;CN="Bexhill Farmers Market":MAILTO:info@bexhillmarket.org.uk
END:VEVENT
BEGIN:VEVENT
DTSTART;TZID=Europe/London:20260801T000000
DTEND;TZID=Europe/London:20260801T130000
DTSTAMP:20260425T000445
CREATED:20260227T084945Z
LAST-MODIFIED:20260417T124833Z
UID:7935-1785542400-1785589200@goodfoodeastsussex.org.uk
SUMMARY:Lewes Farmers Market
DESCRIPTION:
URL:https://goodfoodeastsussex.org.uk/event/lewes-farmers-market-2-5-6/
LOCATION:Lewes Farmers Market\, Friars Walk Car Park\, Lewes\, East Sussex\, United Kingdom
CATEGORIES:Farmers Market,Food Events,Meet Ups
ATTACH;FMTTYPE=image/png:https://goodfoodeastsussex.org.uk/wp-content/uploads/2026/04/Lewes-Farmers-Market.png
END:VEVENT
BEGIN:VEVENT
DTSTART;TZID=Europe/London:20260807T090000
DTEND;TZID=Europe/London:20260807T130000
DTSTAMP:20260425T000445
CREATED:20260227T092415Z
LAST-MODIFIED:20260417T125301Z
UID:7961-1786093200-1786107600@goodfoodeastsussex.org.uk
SUMMARY:Bexhill Farmers Market
DESCRIPTION:
URL:https://goodfoodeastsussex.org.uk/event/bexhill-farmers-market-23/
LOCATION:Devonshire Square\, Bexhill on Sea\, East Sussex\, TN40 1AB\, United Kingdom
CATEGORIES:Farmers Market,Food Events
ATTACH;FMTTYPE=image/png:https://goodfoodeastsussex.org.uk/wp-content/uploads/2026/04/Bexhill-Farmers-Market.png
ORGANIZER;CN="Bexhill Farmers Market":MAILTO:info@bexhillmarket.org.uk
END:VEVENT
BEGIN:VEVENT
DTSTART;TZID=Europe/London:20260814T090000
DTEND;TZID=Europe/London:20260814T130000
DTSTAMP:20260425T000445
CREATED:20260227T092502Z
LAST-MODIFIED:20260417T125301Z
UID:7962-1786698000-1786712400@goodfoodeastsussex.org.uk
SUMMARY:Bexhill Farmers Market
DESCRIPTION:
URL:https://goodfoodeastsussex.org.uk/event/bexhill-farmers-market-24/
LOCATION:Devonshire Square\, Bexhill on Sea\, East Sussex\, TN40 1AB\, United Kingdom
CATEGORIES:Farmers Market,Food Events
ATTACH;FMTTYPE=image/png:https://goodfoodeastsussex.org.uk/wp-content/uploads/2026/04/Bexhill-Farmers-Market.png
ORGANIZER;CN="Bexhill Farmers Market":MAILTO:info@bexhillmarket.org.uk
END:VEVENT
BEGIN:VEVENT
DTSTART;TZID=Europe/London:20260815T000000
DTEND;TZID=Europe/London:20260815T130000
DTSTAMP:20260425T000445
CREATED:20260227T085105Z
LAST-MODIFIED:20260417T124825Z
UID:7927-1786752000-1786798800@goodfoodeastsussex.org.uk
SUMMARY:Lewes Farmers Market
DESCRIPTION:
URL:https://goodfoodeastsussex.org.uk/event/lewes-farmers-market-2-5-7/
LOCATION:Lewes Farmers Market\, Friars Walk Car Park\, Lewes\, East Sussex\, United Kingdom
CATEGORIES:Farmers Market,Food Events,Meet Ups
ATTACH;FMTTYPE=image/png:https://goodfoodeastsussex.org.uk/wp-content/uploads/2026/04/Lewes-Farmers-Market.png
END:VEVENT
BEGIN:VEVENT
DTSTART;TZID=Europe/London:20260821T090000
DTEND;TZID=Europe/London:20260821T130000
DTSTAMP:20260425T000445
CREATED:20260227T092556Z
LAST-MODIFIED:20260417T125253Z
UID:7953-1787302800-1787317200@goodfoodeastsussex.org.uk
SUMMARY:Bexhill Farmers Market
DESCRIPTION:
URL:https://goodfoodeastsussex.org.uk/event/bexhill-farmers-market-25/
LOCATION:Devonshire Square\, Bexhill on Sea\, East Sussex\, TN40 1AB\, United Kingdom
CATEGORIES:Farmers Market,Food Events
ATTACH;FMTTYPE=image/png:https://goodfoodeastsussex.org.uk/wp-content/uploads/2026/04/Bexhill-Farmers-Market.png
ORGANIZER;CN="Bexhill Farmers Market":MAILTO:info@bexhillmarket.org.uk
END:VEVENT
BEGIN:VEVENT
DTSTART;TZID=Europe/London:20260828T090000
DTEND;TZID=Europe/London:20260828T130000
DTSTAMP:20260425T000445
CREATED:20260227T092646Z
LAST-MODIFIED:20260417T125253Z
UID:7954-1787907600-1787922000@goodfoodeastsussex.org.uk
SUMMARY:Bexhill Farmers Market
DESCRIPTION:
URL:https://goodfoodeastsussex.org.uk/event/bexhill-farmers-market-26/
LOCATION:Devonshire Square\, Bexhill on Sea\, East Sussex\, TN40 1AB\, United Kingdom
CATEGORIES:Farmers Market,Food Events
ATTACH;FMTTYPE=image/png:https://goodfoodeastsussex.org.uk/wp-content/uploads/2026/04/Bexhill-Farmers-Market.png
ORGANIZER;CN="Bexhill Farmers Market":MAILTO:info@bexhillmarket.org.uk
END:VEVENT
BEGIN:VEVENT
DTSTART;TZID=Europe/London:20260904T090000
DTEND;TZID=Europe/London:20260904T130000
DTSTAMP:20260425T000445
CREATED:20260227T092956Z
LAST-MODIFIED:20260417T125253Z
UID:7955-1788512400-1788526800@goodfoodeastsussex.org.uk
SUMMARY:Bexhill Farmers Market
DESCRIPTION:
URL:https://goodfoodeastsussex.org.uk/event/bexhill-farmers-market-27/
LOCATION:Devonshire Square\, Bexhill on Sea\, East Sussex\, TN40 1AB\, United Kingdom
CATEGORIES:Farmers Market,Food Events
ATTACH;FMTTYPE=image/png:https://goodfoodeastsussex.org.uk/wp-content/uploads/2026/04/Bexhill-Farmers-Market.png
ORGANIZER;CN="Bexhill Farmers Market":MAILTO:info@bexhillmarket.org.uk
END:VEVENT
BEGIN:VEVENT
DTSTART;TZID=Europe/London:20260905T000000
DTEND;TZID=Europe/London:20260905T130000
DTSTAMP:20260425T000445
CREATED:20260227T085157Z
LAST-MODIFIED:20260417T124825Z
UID:7928-1788566400-1788613200@goodfoodeastsussex.org.uk
SUMMARY:Lewes Farmers Market
DESCRIPTION:
URL:https://goodfoodeastsussex.org.uk/event/lewes-farmers-market-2-5-8/
LOCATION:Lewes Farmers Market\, Friars Walk Car Park\, Lewes\, East Sussex\, United Kingdom
CATEGORIES:Farmers Market,Food Events,Meet Ups
ATTACH;FMTTYPE=image/png:https://goodfoodeastsussex.org.uk/wp-content/uploads/2026/04/Lewes-Farmers-Market.png
END:VEVENT
BEGIN:VEVENT
DTSTART;TZID=Europe/London:20260911T090000
DTEND;TZID=Europe/London:20260911T130000
DTSTAMP:20260425T000445
CREATED:20260227T093104Z
LAST-MODIFIED:20260417T125301Z
UID:7956-1789117200-1789131600@goodfoodeastsussex.org.uk
SUMMARY:Bexhill Farmers Market
DESCRIPTION:
URL:https://goodfoodeastsussex.org.uk/event/bexhill-farmers-market-28/
LOCATION:Devonshire Square\, Bexhill on Sea\, East Sussex\, TN40 1AB\, United Kingdom
CATEGORIES:Farmers Market,Food Events
ATTACH;FMTTYPE=image/png:https://goodfoodeastsussex.org.uk/wp-content/uploads/2026/04/Bexhill-Farmers-Market.png
ORGANIZER;CN="Bexhill Farmers Market":MAILTO:info@bexhillmarket.org.uk
END:VEVENT
BEGIN:VEVENT
DTSTART;TZID=Europe/London:20260918T090000
DTEND;TZID=Europe/London:20260918T130000
DTSTAMP:20260425T000445
CREATED:20260227T093156Z
LAST-MODIFIED:20260417T125301Z
UID:7957-1789722000-1789736400@goodfoodeastsussex.org.uk
SUMMARY:Bexhill Farmers Market
DESCRIPTION:
URL:https://goodfoodeastsussex.org.uk/event/bexhill-farmers-market-29/
LOCATION:Devonshire Square\, Bexhill on Sea\, East Sussex\, TN40 1AB\, United Kingdom
CATEGORIES:Farmers Market,Food Events
ATTACH;FMTTYPE=image/png:https://goodfoodeastsussex.org.uk/wp-content/uploads/2026/04/Bexhill-Farmers-Market.png
ORGANIZER;CN="Bexhill Farmers Market":MAILTO:info@bexhillmarket.org.uk
END:VEVENT
BEGIN:VEVENT
DTSTART;TZID=Europe/London:20260919T000000
DTEND;TZID=Europe/London:20260919T130000
DTSTAMP:20260425T000445
CREATED:20260227T085244Z
LAST-MODIFIED:20260417T124745Z
UID:7929-1789776000-1789822800@goodfoodeastsussex.org.uk
SUMMARY:Lewes Farmers Market
DESCRIPTION:
URL:https://goodfoodeastsussex.org.uk/event/lewes-farmers-market-2-5-9/
LOCATION:Lewes Farmers Market\, Friars Walk Car Park\, Lewes\, East Sussex\, United Kingdom
CATEGORIES:Farmers Market,Food Events,Meet Ups
ATTACH;FMTTYPE=image/png:https://goodfoodeastsussex.org.uk/wp-content/uploads/2026/04/Lewes-Farmers-Market.png
END:VEVENT
BEGIN:VEVENT
DTSTART;TZID=Europe/London:20260925T090000
DTEND;TZID=Europe/London:20260925T130000
DTSTAMP:20260425T000445
CREATED:20260227T093244Z
LAST-MODIFIED:20260417T125253Z
UID:7950-1790326800-1790341200@goodfoodeastsussex.org.uk
SUMMARY:Bexhill Farmers Market
DESCRIPTION:
URL:https://goodfoodeastsussex.org.uk/event/bexhill-farmers-market-30/
LOCATION:Devonshire Square\, Bexhill on Sea\, East Sussex\, TN40 1AB\, United Kingdom
CATEGORIES:Farmers Market,Food Events
ATTACH;FMTTYPE=image/png:https://goodfoodeastsussex.org.uk/wp-content/uploads/2026/04/Bexhill-Farmers-Market.png
ORGANIZER;CN="Bexhill Farmers Market":MAILTO:info@bexhillmarket.org.uk
END:VEVENT
BEGIN:VEVENT
DTSTART;TZID=Europe/London:20261002T090000
DTEND;TZID=Europe/London:20261002T130000
DTSTAMP:20260425T000445
CREATED:20260227T093339Z
LAST-MODIFIED:20260417T125253Z
UID:7951-1790931600-1790946000@goodfoodeastsussex.org.uk
SUMMARY:Bexhill Farmers Market
DESCRIPTION:
URL:https://goodfoodeastsussex.org.uk/event/bexhill-farmers-market-31/
LOCATION:Devonshire Square\, Bexhill on Sea\, East Sussex\, TN40 1AB\, United Kingdom
CATEGORIES:Farmers Market,Food Events
ATTACH;FMTTYPE=image/png:https://goodfoodeastsussex.org.uk/wp-content/uploads/2026/04/Bexhill-Farmers-Market.png
ORGANIZER;CN="Bexhill Farmers Market":MAILTO:info@bexhillmarket.org.uk
END:VEVENT
BEGIN:VEVENT
DTSTART;TZID=Europe/London:20261003T000000
DTEND;TZID=Europe/London:20261003T130000
DTSTAMP:20260425T000445
CREATED:20260227T085328Z
LAST-MODIFIED:20260417T124745Z
UID:7930-1790985600-1791032400@goodfoodeastsussex.org.uk
SUMMARY:Lewes Farmers Market
DESCRIPTION:
URL:https://goodfoodeastsussex.org.uk/event/lewes-farmers-market-2-5-10/
LOCATION:Lewes Farmers Market\, Friars Walk Car Park\, Lewes\, East Sussex\, United Kingdom
CATEGORIES:Farmers Market,Food Events,Meet Ups
ATTACH;FMTTYPE=image/png:https://goodfoodeastsussex.org.uk/wp-content/uploads/2026/04/Lewes-Farmers-Market.png
END:VEVENT
BEGIN:VEVENT
DTSTART;TZID=Europe/London:20261009T090000
DTEND;TZID=Europe/London:20261009T130000
DTSTAMP:20260425T000445
CREATED:20260227T093451Z
LAST-MODIFIED:20260417T125253Z
UID:7952-1791536400-1791550800@goodfoodeastsussex.org.uk
SUMMARY:Bexhill Farmers Market
DESCRIPTION:
URL:https://goodfoodeastsussex.org.uk/event/bexhill-farmers-market-32/
LOCATION:Devonshire Square\, Bexhill on Sea\, East Sussex\, TN40 1AB\, United Kingdom
CATEGORIES:Farmers Market,Food Events
ATTACH;FMTTYPE=image/png:https://goodfoodeastsussex.org.uk/wp-content/uploads/2026/04/Bexhill-Farmers-Market.png
ORGANIZER;CN="Bexhill Farmers Market":MAILTO:info@bexhillmarket.org.uk
END:VEVENT
BEGIN:VEVENT
DTSTART;TZID=Europe/London:20261016T090000
DTEND;TZID=Europe/London:20261016T130000
DTSTAMP:20260425T000445
CREATED:20260227T094023Z
LAST-MODIFIED:20260417T125317Z
UID:8002-1792141200-1792155600@goodfoodeastsussex.org.uk
SUMMARY:Bexhill Farmers Market
DESCRIPTION:
URL:https://goodfoodeastsussex.org.uk/event/bexhill-farmers-market-32-2/
LOCATION:Devonshire Square\, Bexhill on Sea\, East Sussex\, TN40 1AB\, United Kingdom
CATEGORIES:Farmers Market,Food Events
ATTACH;FMTTYPE=image/png:https://goodfoodeastsussex.org.uk/wp-content/uploads/2026/04/Bexhill-Farmers-Market.png
ORGANIZER;CN="Bexhill Farmers Market":MAILTO:info@bexhillmarket.org.uk
END:VEVENT
BEGIN:VEVENT
DTSTART;TZID=Europe/London:20261017T000000
DTEND;TZID=Europe/London:20261017T130000
DTSTAMP:20260425T000445
CREATED:20260227T085414Z
LAST-MODIFIED:20260417T124745Z
UID:7923-1792195200-1792242000@goodfoodeastsussex.org.uk
SUMMARY:Lewes Farmers Market
DESCRIPTION:
URL:https://goodfoodeastsussex.org.uk/event/lewes-farmers-market-2-5-11/
LOCATION:Lewes Farmers Market\, Friars Walk Car Park\, Lewes\, East Sussex\, United Kingdom
CATEGORIES:Farmers Market,Food Events,Meet Ups
ATTACH;FMTTYPE=image/png:https://goodfoodeastsussex.org.uk/wp-content/uploads/2026/04/Lewes-Farmers-Market.png
END:VEVENT
BEGIN:VEVENT
DTSTART;TZID=Europe/London:20261023T090000
DTEND;TZID=Europe/London:20261023T130000
DTSTAMP:20260425T000445
CREATED:20260227T094114Z
LAST-MODIFIED:20260417T125317Z
UID:8003-1792746000-1792760400@goodfoodeastsussex.org.uk
SUMMARY:Bexhill Farmers Market
DESCRIPTION:
URL:https://goodfoodeastsussex.org.uk/event/bexhill-farmers-market-32-3/
LOCATION:Devonshire Square\, Bexhill on Sea\, East Sussex\, TN40 1AB\, United Kingdom
CATEGORIES:Farmers Market,Food Events
ATTACH;FMTTYPE=image/png:https://goodfoodeastsussex.org.uk/wp-content/uploads/2026/04/Bexhill-Farmers-Market.png
ORGANIZER;CN="Bexhill Farmers Market":MAILTO:info@bexhillmarket.org.uk
END:VEVENT
BEGIN:VEVENT
DTSTART;TZID=Europe/London:20261030T090000
DTEND;TZID=Europe/London:20261030T130000
DTSTAMP:20260425T000445
CREATED:20260227T094200Z
LAST-MODIFIED:20260417T125317Z
UID:8004-1793350800-1793365200@goodfoodeastsussex.org.uk
SUMMARY:Bexhill Farmers Market
DESCRIPTION:
URL:https://goodfoodeastsussex.org.uk/event/bexhill-farmers-market-32-4/
LOCATION:Devonshire Square\, Bexhill on Sea\, East Sussex\, TN40 1AB\, United Kingdom
CATEGORIES:Farmers Market,Food Events
ATTACH;FMTTYPE=image/png:https://goodfoodeastsussex.org.uk/wp-content/uploads/2026/04/Bexhill-Farmers-Market.png
ORGANIZER;CN="Bexhill Farmers Market":MAILTO:info@bexhillmarket.org.uk
END:VEVENT
BEGIN:VEVENT
DTSTART;TZID=Europe/London:20261106T090000
DTEND;TZID=Europe/London:20261106T130000
DTSTAMP:20260425T000445
CREATED:20260227T094256Z
LAST-MODIFIED:20260417T125317Z
UID:8005-1793955600-1793970000@goodfoodeastsussex.org.uk
SUMMARY:Bexhill Farmers Market
DESCRIPTION:
URL:https://goodfoodeastsussex.org.uk/event/bexhill-farmers-market-32-5/
LOCATION:Devonshire Square\, Bexhill on Sea\, East Sussex\, TN40 1AB\, United Kingdom
CATEGORIES:Farmers Market,Food Events
ATTACH;FMTTYPE=image/png:https://goodfoodeastsussex.org.uk/wp-content/uploads/2026/04/Bexhill-Farmers-Market.png
ORGANIZER;CN="Bexhill Farmers Market":MAILTO:info@bexhillmarket.org.uk
END:VEVENT
BEGIN:VEVENT
DTSTART;TZID=Europe/London:20261107T000000
DTEND;TZID=Europe/London:20261107T130000
DTSTAMP:20260425T000445
CREATED:20260227T085505Z
LAST-MODIFIED:20260417T124745Z
UID:7924-1794009600-1794056400@goodfoodeastsussex.org.uk
SUMMARY:Lewes Farmers Market
DESCRIPTION:
URL:https://goodfoodeastsussex.org.uk/event/lewes-farmers-market-2-5-12/
LOCATION:Lewes Farmers Market\, Friars Walk Car Park\, Lewes\, East Sussex\, United Kingdom
CATEGORIES:Farmers Market,Food Events,Meet Ups
ATTACH;FMTTYPE=image/png:https://goodfoodeastsussex.org.uk/wp-content/uploads/2026/04/Lewes-Farmers-Market.png
END:VEVENT
BEGIN:VEVENT
DTSTART;TZID=Europe/London:20261113T090000
DTEND;TZID=Europe/London:20261113T130000
DTSTAMP:20260425T000445
CREATED:20260227T094343Z
LAST-MODIFIED:20260417T125317Z
UID:7998-1794560400-1794574800@goodfoodeastsussex.org.uk
SUMMARY:Bexhill Farmers Market
DESCRIPTION:
URL:https://goodfoodeastsussex.org.uk/event/bexhill-farmers-market-32-6/
LOCATION:Devonshire Square\, Bexhill on Sea\, East Sussex\, TN40 1AB\, United Kingdom
CATEGORIES:Farmers Market,Food Events
ATTACH;FMTTYPE=image/png:https://goodfoodeastsussex.org.uk/wp-content/uploads/2026/04/Bexhill-Farmers-Market.png
ORGANIZER;CN="Bexhill Farmers Market":MAILTO:info@bexhillmarket.org.uk
END:VEVENT
BEGIN:VEVENT
DTSTART;TZID=Europe/London:20261120T090000
DTEND;TZID=Europe/London:20261120T130000
DTSTAMP:20260425T000445
CREATED:20260227T094430Z
LAST-MODIFIED:20260417T125317Z
UID:7999-1795165200-1795179600@goodfoodeastsussex.org.uk
SUMMARY:Bexhill Farmers Market
DESCRIPTION:
URL:https://goodfoodeastsussex.org.uk/event/bexhill-farmers-market-32-7/
LOCATION:Devonshire Square\, Bexhill on Sea\, East Sussex\, TN40 1AB\, United Kingdom
CATEGORIES:Farmers Market,Food Events
ATTACH;FMTTYPE=image/png:https://goodfoodeastsussex.org.uk/wp-content/uploads/2026/04/Bexhill-Farmers-Market.png
ORGANIZER;CN="Bexhill Farmers Market":MAILTO:info@bexhillmarket.org.uk
END:VEVENT
BEGIN:VEVENT
DTSTART;TZID=Europe/London:20261121T000000
DTEND;TZID=Europe/London:20261121T130000
DTSTAMP:20260425T000445
CREATED:20260227T085557Z
LAST-MODIFIED:20260417T124745Z
UID:7925-1795219200-1795266000@goodfoodeastsussex.org.uk
SUMMARY:Lewes Farmers Market
DESCRIPTION:
URL:https://goodfoodeastsussex.org.uk/event/lewes-farmers-market-2-5-13/
LOCATION:Lewes Farmers Market\, Friars Walk Car Park\, Lewes\, East Sussex\, United Kingdom
CATEGORIES:Farmers Market,Food Events,Meet Ups
ATTACH;FMTTYPE=image/png:https://goodfoodeastsussex.org.uk/wp-content/uploads/2026/04/Lewes-Farmers-Market.png
END:VEVENT
BEGIN:VEVENT
DTSTART;TZID=Europe/London:20261127T090000
DTEND;TZID=Europe/London:20261127T130000
DTSTAMP:20260425T000445
CREATED:20260227T094518Z
LAST-MODIFIED:20260417T125317Z
UID:8000-1795770000-1795784400@goodfoodeastsussex.org.uk
SUMMARY:Bexhill Farmers Market
DESCRIPTION:
URL:https://goodfoodeastsussex.org.uk/event/bexhill-farmers-market-32-8/
LOCATION:Devonshire Square\, Bexhill on Sea\, East Sussex\, TN40 1AB\, United Kingdom
CATEGORIES:Farmers Market,Food Events
ATTACH;FMTTYPE=image/png:https://goodfoodeastsussex.org.uk/wp-content/uploads/2026/04/Bexhill-Farmers-Market.png
ORGANIZER;CN="Bexhill Farmers Market":MAILTO:info@bexhillmarket.org.uk
END:VEVENT
BEGIN:VEVENT
DTSTART;TZID=Europe/London:20261204T090000
DTEND;TZID=Europe/London:20261204T130000
DTSTAMP:20260425T000445
CREATED:20260227T094607Z
LAST-MODIFIED:20260417T125317Z
UID:8001-1796374800-1796389200@goodfoodeastsussex.org.uk
SUMMARY:Bexhill Farmers Market
DESCRIPTION:
URL:https://goodfoodeastsussex.org.uk/event/bexhill-farmers-market-32-9/
LOCATION:Devonshire Square\, Bexhill on Sea\, East Sussex\, TN40 1AB\, United Kingdom
CATEGORIES:Farmers Market,Food Events
ATTACH;FMTTYPE=image/png:https://goodfoodeastsussex.org.uk/wp-content/uploads/2026/04/Bexhill-Farmers-Market.png
ORGANIZER;CN="Bexhill Farmers Market":MAILTO:info@bexhillmarket.org.uk
END:VEVENT
BEGIN:VEVENT
DTSTART;TZID=Europe/London:20261205T000000
DTEND;TZID=Europe/London:20261205T130000
DTSTAMP:20260425T000445
CREATED:20260227T085644Z
LAST-MODIFIED:20260417T124745Z
UID:7926-1796428800-1796475600@goodfoodeastsussex.org.uk
SUMMARY:Lewes Farmers Market
DESCRIPTION:
URL:https://goodfoodeastsussex.org.uk/event/lewes-farmers-market-2-5-14/
LOCATION:Lewes Farmers Market\, Friars Walk Car Park\, Lewes\, East Sussex\, United Kingdom
CATEGORIES:Farmers Market,Food Events,Meet Ups
ATTACH;FMTTYPE=image/png:https://goodfoodeastsussex.org.uk/wp-content/uploads/2026/04/Lewes-Farmers-Market.png
END:VEVENT
BEGIN:VEVENT
DTSTART;TZID=Europe/London:20261211T090000
DTEND;TZID=Europe/London:20261211T130000
DTSTAMP:20260425T000445
CREATED:20260227T094653Z
LAST-MODIFIED:20260417T125309Z
UID:7994-1796979600-1796994000@goodfoodeastsussex.org.uk
SUMMARY:Bexhill Farmers Market
DESCRIPTION:
URL:https://goodfoodeastsussex.org.uk/event/bexhill-farmers-market-32-10/
LOCATION:Devonshire Square\, Bexhill on Sea\, East Sussex\, TN40 1AB\, United Kingdom
CATEGORIES:Farmers Market,Food Events
ATTACH;FMTTYPE=image/png:https://goodfoodeastsussex.org.uk/wp-content/uploads/2026/04/Bexhill-Farmers-Market.png
ORGANIZER;CN="Bexhill Farmers Market":MAILTO:info@bexhillmarket.org.uk
END:VEVENT
END:VCALENDAR