BEGIN:VCALENDAR
VERSION:2.0
PRODID:-//Good Food East Sussex - ECPv6.15.20//NONSGML v1.0//EN
CALSCALE:GREGORIAN
METHOD:PUBLISH
X-ORIGINAL-URL:https://goodfoodeastsussex.org.uk
X-WR-CALDESC:Events for Good Food East Sussex
REFRESH-INTERVAL;VALUE=DURATION:PT1H
X-Robots-Tag:noindex
X-PUBLISHED-TTL:PT1H
BEGIN:VTIMEZONE
TZID:Europe/London
BEGIN:DAYLIGHT
TZOFFSETFROM:+0000
TZOFFSETTO:+0100
TZNAME:BST
DTSTART:20250330T010000
END:DAYLIGHT
BEGIN:STANDARD
TZOFFSETFROM:+0100
TZOFFSETTO:+0000
TZNAME:GMT
DTSTART:20251026T010000
END:STANDARD
BEGIN:DAYLIGHT
TZOFFSETFROM:+0000
TZOFFSETTO:+0100
TZNAME:BST
DTSTART:20260329T010000
END:DAYLIGHT
BEGIN:STANDARD
TZOFFSETFROM:+0100
TZOFFSETTO:+0000
TZNAME:GMT
DTSTART:20261025T010000
END:STANDARD
BEGIN:DAYLIGHT
TZOFFSETFROM:+0000
TZOFFSETTO:+0100
TZNAME:BST
DTSTART:20270328T010000
END:DAYLIGHT
BEGIN:STANDARD
TZOFFSETFROM:+0100
TZOFFSETTO:+0000
TZNAME:GMT
DTSTART:20271031T010000
END:STANDARD
END:VTIMEZONE
BEGIN:VEVENT
DTSTART;TZID=Europe/London:20260703T090000
DTEND;TZID=Europe/London:20260703T130000
DTSTAMP:20260425T034754
CREATED:20260227T091956Z
LAST-MODIFIED:20260417T125309Z
UID:7965-1783069200-1783083600@goodfoodeastsussex.org.uk
SUMMARY:Bexhill Farmers Market
DESCRIPTION:
URL:https://goodfoodeastsussex.org.uk/event/bexhill-farmers-market-18/
LOCATION:Devonshire Square\, Bexhill on Sea\, East Sussex\, TN40 1AB\, United Kingdom
CATEGORIES:Farmers Market,Food Events
ATTACH;FMTTYPE=image/png:https://goodfoodeastsussex.org.uk/wp-content/uploads/2026/04/Bexhill-Farmers-Market.png
ORGANIZER;CN="Bexhill Farmers Market":MAILTO:info@bexhillmarket.org.uk
END:VEVENT
BEGIN:VEVENT
DTSTART;TZID=Europe/London:20260704T000000
DTEND;TZID=Europe/London:20260704T130000
DTSTAMP:20260425T034754
CREATED:20260227T084809Z
LAST-MODIFIED:20260417T124833Z
UID:7933-1783123200-1783170000@goodfoodeastsussex.org.uk
SUMMARY:Lewes Farmers Market
DESCRIPTION:
URL:https://goodfoodeastsussex.org.uk/event/lewes-farmers-market-2-5-4/
LOCATION:Lewes Farmers Market\, Friars Walk Car Park\, Lewes\, East Sussex\, United Kingdom
CATEGORIES:Farmers Market,Food Events,Meet Ups
ATTACH;FMTTYPE=image/png:https://goodfoodeastsussex.org.uk/wp-content/uploads/2026/04/Lewes-Farmers-Market.png
END:VEVENT
BEGIN:VEVENT
DTSTART;TZID=Europe/London:20260710T090000
DTEND;TZID=Europe/London:20260710T130000
DTSTAMP:20260425T034754
CREATED:20260227T092043Z
LAST-MODIFIED:20260417T125309Z
UID:7966-1783674000-1783688400@goodfoodeastsussex.org.uk
SUMMARY:Bexhill Farmers Market
DESCRIPTION:
URL:https://goodfoodeastsussex.org.uk/event/bexhill-farmers-market-19/
LOCATION:Devonshire Square\, Bexhill on Sea\, East Sussex\, TN40 1AB\, United Kingdom
CATEGORIES:Farmers Market,Food Events
ATTACH;FMTTYPE=image/png:https://goodfoodeastsussex.org.uk/wp-content/uploads/2026/04/Bexhill-Farmers-Market.png
ORGANIZER;CN="Bexhill Farmers Market":MAILTO:info@bexhillmarket.org.uk
END:VEVENT
BEGIN:VEVENT
DTSTART;TZID=Europe/London:20260717T090000
DTEND;TZID=Europe/London:20260717T130000
DTSTAMP:20260425T034754
CREATED:20260227T092140Z
LAST-MODIFIED:20260417T125301Z
UID:7958-1784278800-1784293200@goodfoodeastsussex.org.uk
SUMMARY:Bexhill Farmers Market
DESCRIPTION:
URL:https://goodfoodeastsussex.org.uk/event/bexhill-farmers-market-20/
LOCATION:Devonshire Square\, Bexhill on Sea\, East Sussex\, TN40 1AB\, United Kingdom
CATEGORIES:Farmers Market,Food Events
ATTACH;FMTTYPE=image/png:https://goodfoodeastsussex.org.uk/wp-content/uploads/2026/04/Bexhill-Farmers-Market.png
ORGANIZER;CN="Bexhill Farmers Market":MAILTO:info@bexhillmarket.org.uk
END:VEVENT
BEGIN:VEVENT
DTSTART;TZID=Europe/London:20260718T000000
DTEND;TZID=Europe/London:20260718T130000
DTSTAMP:20260425T034754
CREATED:20260227T084900Z
LAST-MODIFIED:20260417T124833Z
UID:7934-1784332800-1784379600@goodfoodeastsussex.org.uk
SUMMARY:Lewes Farmers Market
DESCRIPTION:
URL:https://goodfoodeastsussex.org.uk/event/lewes-farmers-market-2-5-5/
LOCATION:Lewes Farmers Market\, Friars Walk Car Park\, Lewes\, East Sussex\, United Kingdom
CATEGORIES:Farmers Market,Food Events,Meet Ups
ATTACH;FMTTYPE=image/png:https://goodfoodeastsussex.org.uk/wp-content/uploads/2026/04/Lewes-Farmers-Market.png
END:VEVENT
BEGIN:VEVENT
DTSTART;TZID=Europe/London:20260724T090000
DTEND;TZID=Europe/London:20260724T130000
DTSTAMP:20260425T034754
CREATED:20260227T092234Z
LAST-MODIFIED:20260417T125301Z
UID:7959-1784883600-1784898000@goodfoodeastsussex.org.uk
SUMMARY:Bexhill Farmers Market
DESCRIPTION:
URL:https://goodfoodeastsussex.org.uk/event/bexhill-farmers-market-21/
LOCATION:Devonshire Square\, Bexhill on Sea\, East Sussex\, TN40 1AB\, United Kingdom
CATEGORIES:Farmers Market,Food Events
ATTACH;FMTTYPE=image/png:https://goodfoodeastsussex.org.uk/wp-content/uploads/2026/04/Bexhill-Farmers-Market.png
ORGANIZER;CN="Bexhill Farmers Market":MAILTO:info@bexhillmarket.org.uk
END:VEVENT
BEGIN:VEVENT
DTSTART;TZID=Europe/London:20260731T090000
DTEND;TZID=Europe/London:20260731T130000
DTSTAMP:20260425T034754
CREATED:20260227T092321Z
LAST-MODIFIED:20260417T125301Z
UID:7960-1785488400-1785502800@goodfoodeastsussex.org.uk
SUMMARY:Bexhill Farmers Market
DESCRIPTION:
URL:https://goodfoodeastsussex.org.uk/event/bexhill-farmers-market-22/
LOCATION:Devonshire Square\, Bexhill on Sea\, East Sussex\, TN40 1AB\, United Kingdom
CATEGORIES:Farmers Market,Food Events
ATTACH;FMTTYPE=image/png:https://goodfoodeastsussex.org.uk/wp-content/uploads/2026/04/Bexhill-Farmers-Market.png
ORGANIZER;CN="Bexhill Farmers Market":MAILTO:info@bexhillmarket.org.uk
END:VEVENT
END:VCALENDAR