BEGIN:VCALENDAR
VERSION:2.0
PRODID:-//Good Food East Sussex - ECPv6.15.20//NONSGML v1.0//EN
CALSCALE:GREGORIAN
METHOD:PUBLISH
X-WR-CALNAME:Good Food East Sussex
X-ORIGINAL-URL:https://goodfoodeastsussex.org.uk
X-WR-CALDESC:Events for Good Food East Sussex
REFRESH-INTERVAL;VALUE=DURATION:PT1H
X-Robots-Tag:noindex
X-PUBLISHED-TTL:PT1H
BEGIN:VTIMEZONE
TZID:Europe/London
BEGIN:DAYLIGHT
TZOFFSETFROM:+0000
TZOFFSETTO:+0100
TZNAME:BST
DTSTART:20250330T010000
END:DAYLIGHT
BEGIN:STANDARD
TZOFFSETFROM:+0100
TZOFFSETTO:+0000
TZNAME:GMT
DTSTART:20251026T010000
END:STANDARD
BEGIN:DAYLIGHT
TZOFFSETFROM:+0000
TZOFFSETTO:+0100
TZNAME:BST
DTSTART:20260329T010000
END:DAYLIGHT
BEGIN:STANDARD
TZOFFSETFROM:+0100
TZOFFSETTO:+0000
TZNAME:GMT
DTSTART:20261025T010000
END:STANDARD
BEGIN:DAYLIGHT
TZOFFSETFROM:+0000
TZOFFSETTO:+0100
TZNAME:BST
DTSTART:20270328T010000
END:DAYLIGHT
BEGIN:STANDARD
TZOFFSETFROM:+0100
TZOFFSETTO:+0000
TZNAME:GMT
DTSTART:20271031T010000
END:STANDARD
END:VTIMEZONE
BEGIN:VEVENT
DTSTART;TZID=Europe/London:20260501T090000
DTEND;TZID=Europe/London:20260501T130000
DTSTAMP:20260425T001659
CREATED:20250926T080841Z
LAST-MODIFIED:20260417T125253Z
UID:7429-1777626000-1777640400@goodfoodeastsussex.org.uk
SUMMARY:Bexhill Farmers Market
DESCRIPTION:
URL:https://goodfoodeastsussex.org.uk/event/bexhill-farmers-market-4/
LOCATION:Devonshire Square\, Bexhill on Sea\, East Sussex\, TN40 1AB\, United Kingdom
CATEGORIES:Farmers Market,Food Events
ATTACH;FMTTYPE=image/png:https://goodfoodeastsussex.org.uk/wp-content/uploads/2026/04/Bexhill-Farmers-Market.png
ORGANIZER;CN="Bexhill Farmers Market":MAILTO:info@bexhillmarket.org.uk
END:VEVENT
BEGIN:VEVENT
DTSTART;TZID=Europe/London:20260502T090000
DTEND;TZID=Europe/London:20260502T130000
DTSTAMP:20260425T001659
CREATED:20250925T133801Z
LAST-MODIFIED:20260417T124825Z
UID:7315-1777712400-1777726800@goodfoodeastsussex.org.uk
SUMMARY:Lewes Farmers Market
DESCRIPTION:
URL:https://goodfoodeastsussex.org.uk/event/lewes-farmers-market-2/
LOCATION:Lewes Farmers Market\, Friars Walk Car Park\, Lewes\, East Sussex\, United Kingdom
CATEGORIES:Farmers Market,Food Events,Meet Ups
ATTACH;FMTTYPE=image/png:https://goodfoodeastsussex.org.uk/wp-content/uploads/2026/04/Lewes-Farmers-Market.png
END:VEVENT
BEGIN:VEVENT
DTSTART;TZID=Europe/London:20260508T090000
DTEND;TZID=Europe/London:20260508T130000
DTSTAMP:20260425T001659
CREATED:20250926T080800Z
LAST-MODIFIED:20260417T125253Z
UID:7428-1778230800-1778245200@goodfoodeastsussex.org.uk
SUMMARY:Bexhill Farmers Market
DESCRIPTION:
URL:https://goodfoodeastsussex.org.uk/event/bexhill-farmers-market-3/
LOCATION:Devonshire Square\, Bexhill on Sea\, East Sussex\, TN40 1AB\, United Kingdom
CATEGORIES:Farmers Market,Food Events
ATTACH;FMTTYPE=image/png:https://goodfoodeastsussex.org.uk/wp-content/uploads/2026/04/Bexhill-Farmers-Market.png
ORGANIZER;CN="Bexhill Farmers Market":MAILTO:info@bexhillmarket.org.uk
END:VEVENT
BEGIN:VEVENT
DTSTART;TZID=Europe/London:20260515T090000
DTEND;TZID=Europe/London:20260515T130000
DTSTAMP:20260425T001659
CREATED:20250926T080722Z
LAST-MODIFIED:20260417T130528Z
UID:7427-1778835600-1778850000@goodfoodeastsussex.org.uk
SUMMARY:Bexhill Farmers Market
DESCRIPTION:
URL:https://goodfoodeastsussex.org.uk/event/bexhill-farmers-market-2/
LOCATION:Devonshire Square\, Bexhill on Sea\, East Sussex\, TN40 1AB\, United Kingdom
CATEGORIES:Farmers Market,Food Events
ATTACH;FMTTYPE=image/png:https://goodfoodeastsussex.org.uk/wp-content/uploads/2026/04/Bexhill-Farmers-Market.png
ORGANIZER;CN="Bexhill Farmers Market":MAILTO:info@bexhillmarket.org.uk
END:VEVENT
BEGIN:VEVENT
DTSTART;TZID=Europe/London:20260516T090000
DTEND;TZID=Europe/London:20260516T130000
DTSTAMP:20260425T001659
CREATED:20250925T133612Z
LAST-MODIFIED:20260417T124825Z
UID:7311-1778922000-1778936400@goodfoodeastsussex.org.uk
SUMMARY:Lewes Farmers Market
DESCRIPTION:
URL:https://goodfoodeastsussex.org.uk/event/lewes-farmers-market/
LOCATION:Lewes Farmers Market\, Friars Walk Car Park\, Lewes\, East Sussex\, United Kingdom
CATEGORIES:Farmers Market,Food Events,Meet Ups
ATTACH;FMTTYPE=image/png:https://goodfoodeastsussex.org.uk/wp-content/uploads/2026/04/Lewes-Farmers-Market.png
END:VEVENT
BEGIN:VEVENT
DTSTART;TZID=Europe/London:20260522T090000
DTEND;TZID=Europe/London:20260522T130000
DTSTAMP:20260425T001700
CREATED:20250925T124539Z
LAST-MODIFIED:20260417T130528Z
UID:7279-1779440400-1779454800@goodfoodeastsussex.org.uk
SUMMARY:Bexhill Farmers Market
DESCRIPTION:
URL:https://goodfoodeastsussex.org.uk/event/bexhill-farmers-market/
LOCATION:Devonshire Square\, Bexhill on Sea\, East Sussex\, TN40 1AB\, United Kingdom
CATEGORIES:Farmers Market,Food Events
ATTACH;FMTTYPE=image/png:https://goodfoodeastsussex.org.uk/wp-content/uploads/2026/04/Bexhill-Farmers-Market.png
ORGANIZER;CN="Bexhill Farmers Market":MAILTO:info@bexhillmarket.org.uk
END:VEVENT
BEGIN:VEVENT
DTSTART;TZID=Europe/London:20260529T090000
DTEND;TZID=Europe/London:20260529T130000
DTSTAMP:20260425T001700
CREATED:20260227T091530Z
LAST-MODIFIED:20260417T125309Z
UID:7967-1780045200-1780059600@goodfoodeastsussex.org.uk
SUMMARY:Bexhill Farmers Market
DESCRIPTION:
URL:https://goodfoodeastsussex.org.uk/event/bexhill-farmers-market-13/
LOCATION:Devonshire Square\, Bexhill on Sea\, East Sussex\, TN40 1AB\, United Kingdom
CATEGORIES:Farmers Market,Food Events
ATTACH;FMTTYPE=image/png:https://goodfoodeastsussex.org.uk/wp-content/uploads/2026/04/Bexhill-Farmers-Market.png
ORGANIZER;CN="Bexhill Farmers Market":MAILTO:info@bexhillmarket.org.uk
END:VEVENT
END:VCALENDAR